{"text_format":"1","workbook":"xlsx","n_sheets":2,"sheets":["tabla mundial","tabla general"],"not_rendered":{"charts":0,"images":0,"macros":0,"external_links":1,"defined_names":4,"comments":0,"pivot_tables":0},"unopened":[],"bounds":{"document_bytes":16777216,"sheet_cells":100000,"rows_first":2000,"rows_last":500,"rows_between":2000,"halvings":0,"cell_chars":16384,"cell_head_chars":4096},"cells_cut":0,"cells_raw":0,"read":"whole","date_system":"1900"}

{"sheet":"tabla mundial","index":0,"n_rows":116,"n_cols":21,"rows_kept":116,"cut":false,"hidden":false,"merged":[[46,4,46,9],[6,4,6,9],[14,4,14,9],[22,4,22,9],[30,4,30,9],[38,4,38,9],[110,4,110,9],[115,1,116,6],[54,4,54,9],[62,4,62,9],[74,4,74,9],[90,4,90,9],[99,4,99,9],[105,4,105,9]]}
[]
[null,"Copa mundial de futbol - Brasil 2014"]
[null,null,null,null,"registra los resultados de los partidos en las celdas color verde."]
[null,null,null,null,"Desde octavos de final, si hay empate debes registrar en las columnas F , I"]
[null,null,null,"http://formulasexcel.com"]
[]
[null,"FECHA","HORA","LUGAR","Resultados Grupo A"]
[null,"2014-06-12",0.58333333333333304,"Sao Paulo","Brasil",null,null,null,null,"Croacia",null,"Pos","EQUIPO","Pts","J","G","E","P","GF","GC","D"]
[null,"2014-06-13",0.41666666666666663,"Natal","Mexico",null,null,null,null,"Camerun",null,{"$f":"IF(SUM(O$9:O$12)<>12,\"\",(SUMPRODUCT(((1000*N9+10*U9+S9)< (1000*(N$9:N$12)+10*(U$9:U$12)+(S$9:S$12)))+0)+1))","v":""},"Brasil",{"$f":"(P9*3+Q9*1)","v":0},{"$f":"SUM(P9:R9)","v":0},{"$f":"SUM((E$8:E$13=M9)*(G$8:G$13<>\"\")*(H$8:H$13<>\"\")*(G$8:G$13>H$8:H$13),(J$8:J$13=M9)*(G$8:G$13<>\"\")*(H$8:H$13<>\"\")*(G$8:G$13<H$8:H$13))","v":0},{"$f":"SUM((E$8:E$13=M9)*(G$8:G$13<>\"\")*(G$8:G$13=H$8:H$13),(J$8:J$13=M9)*(H$8:H$13<>\"\")*(G$8:G$13=H$8:H$13))","v":0},{"$f":"SUM((E$8:E$13=M9)*(H$8:H$13<>\"\")*(G$8:G$13<>\"\")*(G$8:G$13<H$8:H$13),(G$8:G$13<>\"\")*(J$8:J$13=M9)*(H$8:H$13<>\"\")*(G$8:G$13>H$8:H$13))","v":0},{"$f":"SUM((E$8:E$13=M9)*(G$8:G$13)*(H$8:H$13<>\"\"),(J$8:J$13=M9)*(H$8:H$13)*(G$8:G$13<>\"\"))","v":0},{"$f":"SUM((E$8:E$13=M9)*(G$8:G$13<>\"\")*(H$8:H$13),(J$8:J$13=M9)*(H$8:H$13<>\"\")*(G$8:G$13))","v":0},{"$f":"S9-T9","v":0}]
[null,"2014-06-17",0.54166666666666663,"Fortaleza","Brasil",null,null,null,null,"Mexico",null,{"$f":"IF(SUM(O$9:O$12)<>12,\"\",(SUMPRODUCT(((1000*N10+10*U10+S10)< (1000*(N$9:N$12)+10*(U$9:U$12)+(S$9:S$12)))+0)+1))","v":""},"Croacia",{"$f":"(P10*3+Q10*1)","v":0},{"$f":"SUM(P10:R10)","v":0},{"$f":"SUM((E$8:E$13=M10)*(G$8:G$13<>\"\")*(H$8:H$13<>\"\")*(G$8:G$13>H$8:H$13),(J$8:J$13=M10)*(G$8:G$13<>\"\")*(H$8:H$13<>\"\")*(G$8:G$13<H$8:H$13))","v":0},{"$f":"SUM((E$8:E$13=M10)*(G$8:G$13<>\"\")*(G$8:G$13=H$8:H$13),(J$8:J$13=M10)*(H$8:H$13<>\"\")*(G$8:G$13=H$8:H$13))","v":0},{"$f":"SUM((E$8:E$13=M10)*(H$8:H$13<>\"\")*(G$8:G$13<>\"\")*(G$8:G$13<H$8:H$13),(G$8:G$13<>\"\")*(J$8:J$13=M10)*(H$8:H$13<>\"\")*(G$8:G$13>H$8:H$13))","v":0},{"$f":"SUM((E$8:E$13=M10)*(G$8:G$13)*(H$8:H$13<>\"\"),(J$8:J$13=M10)*(H$8:H$13)*(G$8:G$13<>\"\"))","v":0},{"$f":"SUM((E$8:E$13=M10)*(G$8:G$13<>\"\")*(H$8:H$13),(J$8:J$13=M10)*(H$8:H$13<>\"\")*(G$8:G$13))","v":0},{"$f":"S10-T10","v":0}]
[null,"2014-06-18",0.5,"Manaus","Camerun",null,null,null,null,"Croacia",null,{"$f":"IF(SUM(O$9:O$12)<>12,\"\",(SUMPRODUCT(((1000*N11+10*U11+S11)< (1000*(N$9:N$12)+10*(U$9:U$12)+(S$9:S$12)))+0)+1))","v":""},"Mexico",{"$f":"(P11*3+Q11*1)","v":0},{"$f":"SUM(P11:R11)","v":0},{"$f":"SUM((E$8:E$13=M11)*(G$8:G$13<>\"\")*(H$8:H$13<>\"\")*(G$8:G$13>H$8:H$13),(J$8:J$13=M11)*(G$8:G$13<>\"\")*(H$8:H$13<>\"\")*(G$8:G$13<H$8:H$13))","v":0},{"$f":"SUM((E$8:E$13=M11)*(G$8:G$13<>\"\")*(G$8:G$13=H$8:H$13),(J$8:J$13=M11)*(H$8:H$13<>\"\")*(G$8:G$13=H$8:H$13))","v":0},{"$f":"SUM((E$8:E$13=M11)*(H$8:H$13<>\"\")*(G$8:G$13<>\"\")*(G$8:G$13<H$8:H$13),(G$8:G$13<>\"\")*(J$8:J$13=M11)*(H$8:H$13<>\"\")*(G$8:G$13>H$8:H$13))","v":0},{"$f":"SUM((E$8:E$13=M11)*(G$8:G$13)*(H$8:H$13<>\"\"),(J$8:J$13=M11)*(H$8:H$13)*(G$8:G$13<>\"\"))","v":0},{"$f":"SUM((E$8:E$13=M11)*(G$8:G$13<>\"\")*(H$8:H$13),(J$8:J$13=M11)*(H$8:H$13<>\"\")*(G$8:G$13))","v":0},{"$f":"S11-T11","v":0}]
[null,"2014-06-23",0.58333333333333304,"Brasilia","Camerun",null,null,null,null,"Brasil",null,{"$f":"IF(SUM(O$9:O$12)<>12,\"\",(SUMPRODUCT(((1000*N12+10*U12+S12)< (1000*(N$9:N$12)+10*(U$9:U$12)+(S$9:S$12)))+0)+1))","v":""},"Camerun",{"$f":"(P12*3+Q12*1)","v":0},{"$f":"SUM(P12:R12)","v":0},{"$f":"SUM((E$8:E$13=M12)*(G$8:G$13<>\"\")*(H$8:H$13<>\"\")*(G$8:G$13>H$8:H$13),(J$8:J$13=M12)*(G$8:G$13<>\"\")*(H$8:H$13<>\"\")*(G$8:G$13<H$8:H$13))","v":0},{"$f":"SUM((E$8:E$13=M12)*(G$8:G$13<>\"\")*(G$8:G$13=H$8:H$13),(J$8:J$13=M12)*(H$8:H$13<>\"\")*(G$8:G$13=H$8:H$13))","v":0},{"$f":"SUM((E$8:E$13=M12)*(H$8:H$13<>\"\")*(G$8:G$13<>\"\")*(G$8:G$13<H$8:H$13),(G$8:G$13<>\"\")*(J$8:J$13=M12)*(H$8:H$13<>\"\")*(G$8:G$13>H$8:H$13))","v":0},{"$f":"SUM((E$8:E$13=M12)*(G$8:G$13)*(H$8:H$13<>\"\"),(J$8:J$13=M12)*(H$8:H$13)*(G$8:G$13<>\"\"))","v":0},{"$f":"SUM((E$8:E$13=M12)*(G$8:G$13<>\"\")*(H$8:H$13),(J$8:J$13=M12)*(H$8:H$13<>\"\")*(G$8:G$13))","v":0},{"$f":"S12-T12","v":0}]
[null,"2014-06-23",0.58333333333333304,"Recife","Croacia",null,null,null,null,"Mexico"]
[]
[null,"FECHA","HORA","LUGAR","Resultados Grupo B"]
[null,"2014-06-13",0.54166666666666663,"Salvador","España",null,null,null,null,"Holanda",null,"Pos","EQUIPO","Pts","J","G","E","P","GF","GC","D"]
[null,"2014-06-13",0.66666666666666696,"Cuiaba","Chile",null,null,null,null,"Australia",null,{"$f":"IF(SUM(O$17:O$20)<>12,\"\",(SUMPRODUCT(((1000*N17+10*U17+S17)< (1000*(N$17:N$20)+10*(U$17:U$20)+(S$17:S$20)))+0)+1))","v":""},"España",{"$f":"(P17*3+Q17*1)","v":0},{"$f":"SUM(P17:R17)","v":0},{"$f":"SUM((E$16:E$21=M17)*(G$16:G$21<>\"\")*(H$16:H$21<>\"\")*(G$16:G$21>H$16:H$21),(J$16:J$21=M17)*(G$16:G$21<>\"\")*(H$16:H$21<>\"\")*(G$16:G$21<H$16:H$21))","v":0},{"$f":"SUM((E$16:E$21=M17)*(G$16:G$21<>\"\")*(G$16:G$21=H$16:H$21),(J$16:J$21=M17)*(H$16:H$21<>\"\")*(G$16:G$21=H$16:H$21))","v":0},{"$f":"SUM((E$16:E$21=M17)*(H$16:H$21<>\"\")*(G$16:G$21<>\"\")*(G$16:G$21<H$16:H$21),(G$16:G$21<>\"\")*(J$16:J$21=M17)*(H$16:H$21<>\"\")*(G$16:G$21>H$16:H$21))","v":0},{"$f":"SUM((E$16:E$21=M17)*(G$16:G$21)*(H$16:H$21<>\"\"),(J$16:J$21=M17)*(H$16:H$21)*(G$16:G$21<>\"\"))","v":0},{"$f":"SUM((E$16:E$21=M17)*(G$16:G$21<>\"\")*(H$16:H$21),(J$16:J$21=M17)*(H$16:H$21<>\"\")*(G$16:G$21))","v":0},{"$f":"S17-T17","v":0}]
[null,"2014-06-18",0.66666666666666696,"Rio de Janeiro","España",null,null,null,null,"Chile",null,{"$f":"IF(SUM(O$17:O$20)<>12,\"\",(SUMPRODUCT(((1000*N18+10*U18+S18)< (1000*(N$17:N$20)+10*(U$17:U$20)+(S$17:S$20)))+0)+1))","v":""},"Holanda",{"$f":"(P18*3+Q18*1)","v":0},{"$f":"SUM(P18:R18)","v":0},{"$f":"SUM((E$16:E$21=M18)*(G$16:G$21<>\"\")*(H$16:H$21<>\"\")*(G$16:G$21>H$16:H$21),(J$16:J$21=M18)*(G$16:G$21<>\"\")*(H$16:H$21<>\"\")*(G$16:G$21<H$16:H$21))","v":0},{"$f":"SUM((E$16:E$21=M18)*(G$16:G$21<>\"\")*(G$16:G$21=H$16:H$21),(J$16:J$21=M18)*(H$16:H$21<>\"\")*(G$16:G$21=H$16:H$21))","v":0},{"$f":"SUM((E$16:E$21=M18)*(H$16:H$21<>\"\")*(G$16:G$21<>\"\")*(G$16:G$21<H$16:H$21),(G$16:G$21<>\"\")*(J$16:J$21=M18)*(H$16:H$21<>\"\")*(G$16:G$21>H$16:H$21))","v":0},{"$f":"SUM((E$16:E$21=M18)*(G$16:G$21)*(H$16:H$21<>\"\"),(J$16:J$21=M18)*(H$16:H$21)*(G$16:G$21<>\"\"))","v":0},{"$f":"SUM((E$16:E$21=M18)*(G$16:G$21<>\"\")*(H$16:H$21),(J$16:J$21=M18)*(H$16:H$21<>\"\")*(G$16:G$21))","v":0},{"$f":"S18-T18","v":0}]
[null,"2014-06-18",0.41666666666666663,"Porto Alegre","Australia",null,null,null,null,"Holanda",null,{"$f":"IF(SUM(O$17:O$20)<>12,\"\",(SUMPRODUCT(((1000*N19+10*U19+S19)< (1000*(N$17:N$20)+10*(U$17:U$20)+(S$17:S$20)))+0)+1))","v":""},"Chile",{"$f":"(P19*3+Q19*1)","v":0},{"$f":"SUM(P19:R19)","v":0},{"$f":"SUM((E$16:E$21=M19)*(G$16:G$21<>\"\")*(H$16:H$21<>\"\")*(G$16:G$21>H$16:H$21),(J$16:J$21=M19)*(G$16:G$21<>\"\")*(H$16:H$21<>\"\")*(G$16:G$21<H$16:H$21))","v":0},{"$f":"SUM((E$16:E$21=M19)*(G$16:G$21<>\"\")*(G$16:G$21=H$16:H$21),(J$16:J$21=M19)*(H$16:H$21<>\"\")*(G$16:G$21=H$16:H$21))","v":0},{"$f":"SUM((E$16:E$21=M19)*(H$16:H$21<>\"\")*(G$16:G$21<>\"\")*(G$16:G$21<H$16:H$21),(G$16:G$21<>\"\")*(J$16:J$21=M19)*(H$16:H$21<>\"\")*(G$16:G$21>H$16:H$21))","v":0},{"$f":"SUM((E$16:E$21=M19)*(G$16:G$21)*(H$16:H$21<>\"\"),(J$16:J$21=M19)*(H$16:H$21)*(G$16:G$21<>\"\"))","v":0},{"$f":"SUM((E$16:E$21=M19)*(G$16:G$21<>\"\")*(H$16:H$21),(J$16:J$21=M19)*(H$16:H$21<>\"\")*(G$16:G$21))","v":0},{"$f":"S19-T19","v":0}]
[null,"2014-06-23",0.41666666666666663,"Curitiba","Australia",null,null,null,null,"España",null,{"$f":"IF(SUM(O$17:O$20)<>12,\"\",(SUMPRODUCT(((1000*N20+10*U20+S20)< (1000*(N$17:N$20)+10*(U$17:U$20)+(S$17:S$20)))+0)+1))","v":""},"Australia",{"$f":"(P20*3+Q20*1)","v":0},{"$f":"SUM(P20:R20)","v":0},{"$f":"SUM((E$16:E$21=M20)*(G$16:G$21<>\"\")*(H$16:H$21<>\"\")*(G$16:G$21>H$16:H$21),(J$16:J$21=M20)*(G$16:G$21<>\"\")*(H$16:H$21<>\"\")*(G$16:G$21<H$16:H$21))","v":0},{"$f":"SUM((E$16:E$21=M20)*(G$16:G$21<>\"\")*(G$16:G$21=H$16:H$21),(J$16:J$21=M20)*(H$16:H$21<>\"\")*(G$16:G$21=H$16:H$21))","v":0},{"$f":"SUM((E$16:E$21=M20)*(H$16:H$21<>\"\")*(G$16:G$21<>\"\")*(G$16:G$21<H$16:H$21),(G$16:G$21<>\"\")*(J$16:J$21=M20)*(H$16:H$21<>\"\")*(G$16:G$21>H$16:H$21))","v":0},{"$f":"SUM((E$16:E$21=M20)*(G$16:G$21)*(H$16:H$21<>\"\"),(J$16:J$21=M20)*(H$16:H$21)*(G$16:G$21<>\"\"))","v":0},{"$f":"SUM((E$16:E$21=M20)*(G$16:G$21<>\"\")*(H$16:H$21),(J$16:J$21=M20)*(H$16:H$21<>\"\")*(G$16:G$21))","v":0},{"$f":"S20-T20","v":0}]
[null,"2014-06-23",0.41666666666666663,"Belo Horizonte","Holanda",null,null,null,null,"Chile"]
[]
[null,"FECHA","HORA","LUGAR","Resultados Grupo C"]
[null,"2014-06-14",0.41666666666666663,"Belo Horizonte","Colombia",null,null,null,null,"Grecia",null,"Pos","EQUIPO","Pts","J","G","E","P","GF","GC","D"]
[null,"2014-06-14",0.66666666666666696,"Recife","Costa de Marfil",null,null,null,null,"Japon",null,{"$f":"IF(SUM(O$25:O$28)<>12,\"\",(SUMPRODUCT(((1000*N25+10*U25+S25)< (1000*(N$25:N$28)+10*(U$25:U$28)+(S$25:S$28)))+0)+1))","v":""},"Colombia",{"$f":"(P25*3+Q25*1)","v":0},{"$f":"SUM(P25:R25)","v":0},{"$f":"SUM((E$24:E$29=M25)*(G$24:G$29<>\"\")*(H$24:H$29<>\"\")*(G$24:G$29>H$24:H$29),(J$24:J$29=M25)*(G$24:G$29<>\"\")*(H$24:H$29<>\"\")*(G$24:G$29<H$24:H$29))","v":0},{"$f":"SUM((E$24:E$29=M25)*(G$24:G$29<>\"\")*(G$24:G$29=H$24:H$29),(J$24:J$29=M25)*(H$24:H$29<>\"\")*(G$24:G$29=H$24:H$29))","v":0},{"$f":"SUM((E$24:E$29=M25)*(H$24:H$29<>\"\")*(G$24:G$29<>\"\")*(G$24:G$29<H$24:H$29),(G$24:G$29<>\"\")*(J$24:J$29=M25)*(H$24:H$29<>\"\")*(G$24:G$29>H$24:H$29))","v":0},{"$f":"SUM((E$24:E$29=M25)*(G$24:G$29)*(H$24:H$29<>\"\"),(J$24:J$29=M25)*(H$24:H$29)*(G$24:G$29<>\"\"))","v":0},{"$f":"SUM((E$24:E$29=M25)*(G$24:G$29<>\"\")*(H$24:H$29),(J$24:J$29=M25)*(H$24:H$29<>\"\")*(G$24:G$29))","v":0},{"$f":"S25-T25","v":0}]
[null,"2014-06-19",0.41666666666666663,"Brasilia","Colombia",null,null,null,null,"Costa de Marfil",null,{"$f":"IF(SUM(O$25:O$28)<>12,\"\",(SUMPRODUCT(((1000*N26+10*U26+S26)< (1000*(N$25:N$28)+10*(U$25:U$28)+(S$25:S$28)))+0)+1))","v":""},"Grecia",{"$f":"(P26*3+Q26*1)","v":0},{"$f":"SUM(P26:R26)","v":0},{"$f":"SUM((E$24:E$29=M26)*(G$24:G$29<>\"\")*(H$24:H$29<>\"\")*(G$24:G$29>H$24:H$29),(J$24:J$29=M26)*(G$24:G$29<>\"\")*(H$24:H$29<>\"\")*(G$24:G$29<H$24:H$29))","v":0},{"$f":"SUM((E$24:E$29=M26)*(G$24:G$29<>\"\")*(G$24:G$29=H$24:H$29),(J$24:J$29=M26)*(H$24:H$29<>\"\")*(G$24:G$29=H$24:H$29))","v":0},{"$f":"SUM((E$24:E$29=M26)*(H$24:H$29<>\"\")*(G$24:G$29<>\"\")*(G$24:G$29<H$24:H$29),(G$24:G$29<>\"\")*(J$24:J$29=M26)*(H$24:H$29<>\"\")*(G$24:G$29>H$24:H$29))","v":0},{"$f":"SUM((E$24:E$29=M26)*(G$24:G$29)*(H$24:H$29<>\"\"),(J$24:J$29=M26)*(H$24:H$29)*(G$24:G$29<>\"\"))","v":0},{"$f":"SUM((E$24:E$29=M26)*(G$24:G$29<>\"\")*(H$24:H$29),(J$24:J$29=M26)*(H$24:H$29<>\"\")*(G$24:G$29))","v":0},{"$f":"S26-T26","v":0}]
[null,"2014-06-19",0.66666666666666696,"Natal","Japon",null,null,null,null,"Grecia",null,{"$f":"IF(SUM(O$25:O$28)<>12,\"\",(SUMPRODUCT(((1000*N27+10*U27+S27)< (1000*(N$25:N$28)+10*(U$25:U$28)+(S$25:S$28)))+0)+1))","v":""},"Costa de Marfil",{"$f":"(P27*3+Q27*1)","v":0},{"$f":"SUM(P27:R27)","v":0},{"$f":"SUM((E$24:E$29=M27)*(G$24:G$29<>\"\")*(H$24:H$29<>\"\")*(G$24:G$29>H$24:H$29),(J$24:J$29=M27)*(G$24:G$29<>\"\")*(H$24:H$29<>\"\")*(G$24:G$29<H$24:H$29))","v":0},{"$f":"SUM((E$24:E$29=M27)*(G$24:G$29<>\"\")*(G$24:G$29=H$24:H$29),(J$24:J$29=M27)*(H$24:H$29<>\"\")*(G$24:G$29=H$24:H$29))","v":0},{"$f":"SUM((E$24:E$29=M27)*(H$24:H$29<>\"\")*(G$24:G$29<>\"\")*(G$24:G$29<H$24:H$29),(G$24:G$29<>\"\")*(J$24:J$29=M27)*(H$24:H$29<>\"\")*(G$24:G$29>H$24:H$29))","v":0},{"$f":"SUM((E$24:E$29=M27)*(G$24:G$29)*(H$24:H$29<>\"\"),(J$24:J$29=M27)*(H$24:H$29)*(G$24:G$29<>\"\"))","v":0},{"$f":"SUM((E$24:E$29=M27)*(G$24:G$29<>\"\")*(H$24:H$29),(J$24:J$29=M27)*(H$24:H$29<>\"\")*(G$24:G$29))","v":0},{"$f":"S27-T27","v":0}]
[null,"2014-06-24",0.58333333333333304,"Cuiaba","Japon",null,null,null,null,"Colombia",null,{"$f":"IF(SUM(O$25:O$28)<>12,\"\",(SUMPRODUCT(((1000*N28+10*U28+S28)< (1000*(N$25:N$28)+10*(U$25:U$28)+(S$25:S$28)))+0)+1))","v":""},"Japon",{"$f":"(P28*3+Q28*1)","v":0},{"$f":"SUM(P28:R28)","v":0},{"$f":"SUM((E$24:E$29=M28)*(G$24:G$29<>\"\")*(H$24:H$29<>\"\")*(G$24:G$29>H$24:H$29),(J$24:J$29=M28)*(G$24:G$29<>\"\")*(H$24:H$29<>\"\")*(G$24:G$29<H$24:H$29))","v":0},{"$f":"SUM((E$24:E$29=M28)*(G$24:G$29<>\"\")*(G$24:G$29=H$24:H$29),(J$24:J$29=M28)*(H$24:H$29<>\"\")*(G$24:G$29=H$24:H$29))","v":0},{"$f":"SUM((E$24:E$29=M28)*(H$24:H$29<>\"\")*(G$24:G$29<>\"\")*(G$24:G$29<H$24:H$29),(G$24:G$29<>\"\")*(J$24:J$29=M28)*(H$24:H$29<>\"\")*(G$24:G$29>H$24:H$29))","v":0},{"$f":"SUM((E$24:E$29=M28)*(G$24:G$29)*(H$24:H$29<>\"\"),(J$24:J$29=M28)*(H$24:H$29)*(G$24:G$29<>\"\"))","v":0},{"$f":"SUM((E$24:E$29=M28)*(G$24:G$29<>\"\")*(H$24:H$29),(J$24:J$29=M28)*(H$24:H$29<>\"\")*(G$24:G$29))","v":0},{"$f":"S28-T28","v":0}]
[null,"2014-06-24",0.58333333333333304,"Fortaleza","Grecia",null,null,null,null,"Costa de Marfil"]
[]
[null,"FECHA","HORA","LUGAR","Resultados Grupo D"]
[null,"2014-06-14",0.54166666666666663,"Fortaleza","Uruguay",null,null,null,null,"Costa Rica",null,"Pos","EQUIPO","Pts","J","G","E","P","GF","GC","D"]
[null,"2014-06-14",0.75,"Manaus","Inglaterra",null,null,null,null,"Italia",null,{"$f":"IF(SUM(O$33:O$36)<>12,\"\",(SUMPRODUCT(((1000*N33+10*U33+S33)< (1000*(N$33:N$36)+10*(U$33:U$36)+(S$33:S$36)))+0)+1))","v":""},"Uruguay",{"$f":"(P33*3+Q33*1)","v":0},{"$f":"SUM(P33:R33)","v":0},{"$f":"SUM((E$32:E$37=M33)*(G$32:G$37<>\"\")*(H$32:H$37<>\"\")*(G$32:G$37>H$32:H$37),(J$32:J$37=M33)*(G$32:G$37<>\"\")*(H$32:H$37<>\"\")*(G$32:G$37<H$32:H$37))","v":0},{"$f":"SUM((E$32:E$37=M33)*(G$32:G$37<>\"\")*(G$32:G$37=H$32:H$37),(J$32:J$37=M33)*(H$32:H$37<>\"\")*(G$32:G$37=H$32:H$37))","v":0},{"$f":"SUM((E$32:E$37=M33)*(H$32:H$37<>\"\")*(G$32:G$37<>\"\")*(G$32:G$37<H$32:H$37),(G$32:G$37<>\"\")*(J$32:J$37=M33)*(H$32:H$37<>\"\")*(G$32:G$37>H$32:H$37))","v":0},{"$f":"SUM((E$32:E$37=M33)*(G$32:G$37)*(H$32:H$37<>\"\"),(J$32:J$37=M33)*(H$32:H$37)*(G$32:G$37<>\"\"))","v":0},{"$f":"SUM((E$32:E$37=M33)*(G$32:G$37<>\"\")*(H$32:H$37),(J$32:J$37=M33)*(H$32:H$37<>\"\")*(G$32:G$37))","v":0},{"$f":"S33-T33","v":0}]
[null,"2014-06-19",0.54166666666666663,"Sao Paulo","Uruguay",null,null,null,null,"Inglaterra",null,{"$f":"IF(SUM(O$33:O$36)<>12,\"\",(SUMPRODUCT(((1000*N34+10*U34+S34)< (1000*(N$33:N$36)+10*(U$33:U$36)+(S$33:S$36)))+0)+1))","v":""},"Costa Rica",{"$f":"(P34*3+Q34*1)","v":0},{"$f":"SUM(P34:R34)","v":0},{"$f":"SUM((E$32:E$37=M34)*(G$32:G$37<>\"\")*(H$32:H$37<>\"\")*(G$32:G$37>H$32:H$37),(J$32:J$37=M34)*(G$32:G$37<>\"\")*(H$32:H$37<>\"\")*(G$32:G$37<H$32:H$37))","v":0},{"$f":"SUM((E$32:E$37=M34)*(G$32:G$37<>\"\")*(G$32:G$37=H$32:H$37),(J$32:J$37=M34)*(H$32:H$37<>\"\")*(G$32:G$37=H$32:H$37))","v":0},{"$f":"SUM((E$32:E$37=M34)*(H$32:H$37<>\"\")*(G$32:G$37<>\"\")*(G$32:G$37<H$32:H$37),(G$32:G$37<>\"\")*(J$32:J$37=M34)*(H$32:H$37<>\"\")*(G$32:G$37>H$32:H$37))","v":0},{"$f":"SUM((E$32:E$37=M34)*(G$32:G$37)*(H$32:H$37<>\"\"),(J$32:J$37=M34)*(H$32:H$37)*(G$32:G$37<>\"\"))","v":0},{"$f":"SUM((E$32:E$37=M34)*(G$32:G$37<>\"\")*(H$32:H$37),(J$32:J$37=M34)*(H$32:H$37<>\"\")*(G$32:G$37))","v":0},{"$f":"S34-T34","v":0}]
[null,"2014-06-20",0.41666666666666663,"Recife","Italia",null,null,null,null,"Costa Rica",null,{"$f":"IF(SUM(O$33:O$36)<>12,\"\",(SUMPRODUCT(((1000*N35+10*U35+S35)< (1000*(N$33:N$36)+10*(U$33:U$36)+(S$33:S$36)))+0)+1))","v":""},"Inglaterra",{"$f":"(P35*3+Q35*1)","v":0},{"$f":"SUM(P35:R35)","v":0},{"$f":"SUM((E$32:E$37=M35)*(G$32:G$37<>\"\")*(H$32:H$37<>\"\")*(G$32:G$37>H$32:H$37),(J$32:J$37=M35)*(G$32:G$37<>\"\")*(H$32:H$37<>\"\")*(G$32:G$37<H$32:H$37))","v":0},{"$f":"SUM((E$32:E$37=M35)*(G$32:G$37<>\"\")*(G$32:G$37=H$32:H$37),(J$32:J$37=M35)*(H$32:H$37<>\"\")*(G$32:G$37=H$32:H$37))","v":0},{"$f":"SUM((E$32:E$37=M35)*(H$32:H$37<>\"\")*(G$32:G$37<>\"\")*(G$32:G$37<H$32:H$37),(G$32:G$37<>\"\")*(J$32:J$37=M35)*(H$32:H$37<>\"\")*(G$32:G$37>H$32:H$37))","v":0},{"$f":"SUM((E$32:E$37=M35)*(G$32:G$37)*(H$32:H$37<>\"\"),(J$32:J$37=M35)*(H$32:H$37)*(G$32:G$37<>\"\"))","v":0},{"$f":"SUM((E$32:E$37=M35)*(G$32:G$37<>\"\")*(H$32:H$37),(J$32:J$37=M35)*(H$32:H$37<>\"\")*(G$32:G$37))","v":0},{"$f":"S35-T35","v":0}]
[null,"2014-06-24",0.41666666666666663,"Natal","Italia",null,null,null,null,"Uruguay",null,{"$f":"IF(SUM(O$33:O$36)<>12,\"\",(SUMPRODUCT(((1000*N36+10*U36+S36)< (1000*(N$33:N$36)+10*(U$33:U$36)+(S$33:S$36)))+0)+1))","v":""},"Italia",{"$f":"(P36*3+Q36*1)","v":0},{"$f":"SUM(P36:R36)","v":0},{"$f":"SUM((E$32:E$37=M36)*(G$32:G$37<>\"\")*(H$32:H$37<>\"\")*(G$32:G$37>H$32:H$37),(J$32:J$37=M36)*(G$32:G$37<>\"\")*(H$32:H$37<>\"\")*(G$32:G$37<H$32:H$37))","v":0},{"$f":"SUM((E$32:E$37=M36)*(G$32:G$37<>\"\")*(G$32:G$37=H$32:H$37),(J$32:J$37=M36)*(H$32:H$37<>\"\")*(G$32:G$37=H$32:H$37))","v":0},{"$f":"SUM((E$32:E$37=M36)*(H$32:H$37<>\"\")*(G$32:G$37<>\"\")*(G$32:G$37<H$32:H$37),(G$32:G$37<>\"\")*(J$32:J$37=M36)*(H$32:H$37<>\"\")*(G$32:G$37>H$32:H$37))","v":0},{"$f":"SUM((E$32:E$37=M36)*(G$32:G$37)*(H$32:H$37<>\"\"),(J$32:J$37=M36)*(H$32:H$37)*(G$32:G$37<>\"\"))","v":0},{"$f":"SUM((E$32:E$37=M36)*(G$32:G$37<>\"\")*(H$32:H$37),(J$32:J$37=M36)*(H$32:H$37<>\"\")*(G$32:G$37))","v":0},{"$f":"S36-T36","v":0}]
[null,"2014-06-24",0.41666666666666663,"Belo Horizonte","Costa Rica",null,null,null,null,"Inglaterra"]
[]
[null,"FECHA","HORA","LUGAR","Resultados Grupo E"]
[null,"2014-06-15",0.41666666666666663,"Brasilia","Suiza",null,null,null,null,"Ecuador",null,"Pos","EQUIPO","Pts","J","G","E","P","GF","GC","D"]
[null,"2014-06-15",0.54166666666666663,"Porto Alegre","Francia",null,null,null,null,"Honduras",null,{"$f":"IF(SUM(O$41:O$44)<>12,\"\",(SUMPRODUCT(((1000*N41+10*U41+S41)< (1000*(N$41:N$44)+10*(U$41:U$44)+(S$41:S$44)))+0)+1))","v":""},"Suiza",{"$f":"(P41*3+Q41*1)","v":0},{"$f":"SUM(P41:R41)","v":0},{"$f":"SUM((E$40:E$45=M41)*(G$40:G$45<>\"\")*(H$40:H$45<>\"\")*(G$40:G$45>H$40:H$45),(J$40:J$45=M41)*(G$40:G$45<>\"\")*(H$40:H$45<>\"\")*(G$40:G$45<H$40:H$45))","v":0},{"$f":"SUM((E$40:E$45=M41)*(G$40:G$45<>\"\")*(G$40:G$45=H$40:H$45),(J$40:J$45=M41)*(H$40:H$45<>\"\")*(G$40:G$45=H$40:H$45))","v":0},{"$f":"SUM((E$40:E$45=M41)*(H$40:H$45<>\"\")*(G$40:G$45<>\"\")*(G$40:G$45<H$40:H$45),(G$40:G$45<>\"\")*(J$40:J$45=M41)*(H$40:H$45<>\"\")*(G$40:G$45>H$40:H$45))","v":0},{"$f":"SUM((E$40:E$45=M41)*(G$40:G$45)*(H$40:H$45<>\"\"),(J$40:J$45=M41)*(H$40:H$45)*(G$40:G$45<>\"\"))","v":0},{"$f":"SUM((E$40:E$45=M41)*(G$40:G$45<>\"\")*(H$40:H$45),(J$40:J$45=M41)*(H$40:H$45<>\"\")*(G$40:G$45))","v":0},{"$f":"S41-T41","v":0}]
[null,"2014-06-20",0.54166666666666663,"Salvador","Suiza",null,null,null,null,"Francia",null,{"$f":"IF(SUM(O$41:O$44)<>12,\"\",(SUMPRODUCT(((1000*N42+10*U42+S42)< (1000*(N$41:N$44)+10*(U$41:U$44)+(S$41:S$44)))+0)+1))","v":""},"Ecuador",{"$f":"(P42*3+Q42*1)","v":0},{"$f":"SUM(P42:R42)","v":0},{"$f":"SUM((E$40:E$45=M42)*(G$40:G$45<>\"\")*(H$40:H$45<>\"\")*(G$40:G$45>H$40:H$45),(J$40:J$45=M42)*(G$40:G$45<>\"\")*(H$40:H$45<>\"\")*(G$40:G$45<H$40:H$45))","v":0},{"$f":"SUM((E$40:E$45=M42)*(G$40:G$45<>\"\")*(G$40:G$45=H$40:H$45),(J$40:J$45=M42)*(H$40:H$45<>\"\")*(G$40:G$45=H$40:H$45))","v":0},{"$f":"SUM((E$40:E$45=M42)*(H$40:H$45<>\"\")*(G$40:G$45<>\"\")*(G$40:G$45<H$40:H$45),(G$40:G$45<>\"\")*(J$40:J$45=M42)*(H$40:H$45<>\"\")*(G$40:G$45>H$40:H$45))","v":0},{"$f":"SUM((E$40:E$45=M42)*(G$40:G$45)*(H$40:H$45<>\"\"),(J$40:J$45=M42)*(H$40:H$45)*(G$40:G$45<>\"\"))","v":0},{"$f":"SUM((E$40:E$45=M42)*(G$40:G$45<>\"\")*(H$40:H$45),(J$40:J$45=M42)*(H$40:H$45<>\"\")*(G$40:G$45))","v":0},{"$f":"S42-T42","v":0}]
[null,"2014-06-20",0.66666666666666696,"Curitiba","Honduras",null,null,null,null,"Ecuador",null,{"$f":"IF(SUM(O$41:O$44)<>12,\"\",(SUMPRODUCT(((1000*N43+10*U43+S43)< (1000*(N$41:N$44)+10*(U$41:U$44)+(S$41:S$44)))+0)+1))","v":""},"Francia",{"$f":"(P43*3+Q43*1)","v":0},{"$f":"SUM(P43:R43)","v":0},{"$f":"SUM((E$40:E$45=M43)*(G$40:G$45<>\"\")*(H$40:H$45<>\"\")*(G$40:G$45>H$40:H$45),(J$40:J$45=M43)*(G$40:G$45<>\"\")*(H$40:H$45<>\"\")*(G$40:G$45<H$40:H$45))","v":0},{"$f":"SUM((E$40:E$45=M43)*(G$40:G$45<>\"\")*(G$40:G$45=H$40:H$45),(J$40:J$45=M43)*(H$40:H$45<>\"\")*(G$40:G$45=H$40:H$45))","v":0},{"$f":"SUM((E$40:E$45=M43)*(H$40:H$45<>\"\")*(G$40:G$45<>\"\")*(G$40:G$45<H$40:H$45),(G$40:G$45<>\"\")*(J$40:J$45=M43)*(H$40:H$45<>\"\")*(G$40:G$45>H$40:H$45))","v":0},{"$f":"SUM((E$40:E$45=M43)*(G$40:G$45)*(H$40:H$45<>\"\"),(J$40:J$45=M43)*(H$40:H$45)*(G$40:G$45<>\"\"))","v":0},{"$f":"SUM((E$40:E$45=M43)*(G$40:G$45<>\"\")*(H$40:H$45),(J$40:J$45=M43)*(H$40:H$45<>\"\")*(G$40:G$45))","v":0},{"$f":"S43-T43","v":0}]
[null,"2014-06-25",0.58333333333333304,"Manaus","Honduras",null,null,null,null,"Suiza",null,{"$f":"IF(SUM(O$41:O$44)<>12,\"\",(SUMPRODUCT(((1000*N44+10*U44+S44)< (1000*(N$41:N$44)+10*(U$41:U$44)+(S$41:S$44)))+0)+1))","v":""},"Honduras",{"$f":"(P44*3+Q44*1)","v":0},{"$f":"SUM(P44:R44)","v":0},{"$f":"SUM((E$40:E$45=M44)*(G$40:G$45<>\"\")*(H$40:H$45<>\"\")*(G$40:G$45>H$40:H$45),(J$40:J$45=M44)*(G$40:G$45<>\"\")*(H$40:H$45<>\"\")*(G$40:G$45<H$40:H$45))","v":0},{"$f":"SUM((E$40:E$45=M44)*(G$40:G$45<>\"\")*(G$40:G$45=H$40:H$45),(J$40:J$45=M44)*(H$40:H$45<>\"\")*(G$40:G$45=H$40:H$45))","v":0},{"$f":"SUM((E$40:E$45=M44)*(H$40:H$45<>\"\")*(G$40:G$45<>\"\")*(G$40:G$45<H$40:H$45),(G$40:G$45<>\"\")*(J$40:J$45=M44)*(H$40:H$45<>\"\")*(G$40:G$45>H$40:H$45))","v":0},{"$f":"SUM((E$40:E$45=M44)*(G$40:G$45)*(H$40:H$45<>\"\"),(J$40:J$45=M44)*(H$40:H$45)*(G$40:G$45<>\"\"))","v":0},{"$f":"SUM((E$40:E$45=M44)*(G$40:G$45<>\"\")*(H$40:H$45),(J$40:J$45=M44)*(H$40:H$45<>\"\")*(G$40:G$45))","v":0},{"$f":"S44-T44","v":0}]
[null,"2014-06-25",0.58333333333333304,"Rio de Janeiro","Ecuador",null,null,null,null,"Francia"]
[]
[null,"FECHA","HORA","LUGAR","Resultados Grupo F"]
[null,"2014-06-15",0.66666666666666696,"Rio de Janeiro","Argentina",null,null,null,null,"Bosnia-Herzegovina",null,"Pos","EQUIPO","Pts","J","G","E","P","GF","GC","D"]
[null,"2014-06-16",0.54166666666666663,"Curitiba","Iran",null,null,null,null,"Nigeria",null,{"$f":"IF(SUM(O$49:O$52)<>12,\"\",(SUMPRODUCT(((1000*N49+10*U49+S49)< (1000*(N$49:N$52)+10*(U$49:U$52)+(S$49:S$52)))+0)+1))","v":""},"Argentina",{"$f":"(P49*3+Q49*1)","v":0},{"$f":"SUM(P49:R49)","v":0},{"$f":"SUM((E$48:E$53=M49)*(G$48:G$53<>\"\")*(H$48:H$53<>\"\")*(G$48:G$53>H$48:H$53),(J$48:J$53=M49)*(G$48:G$53<>\"\")*(H$48:H$53<>\"\")*(G$48:G$53<H$48:H$53))","v":0},{"$f":"SUM((E$48:E$53=M49)*(G$48:G$53<>\"\")*(G$48:G$53=H$48:H$53),(J$48:J$53=M49)*(H$48:H$53<>\"\")*(G$48:G$53=H$48:H$53))","v":0},{"$f":"SUM((E$48:E$53=M49)*(H$48:H$53<>\"\")*(G$48:G$53<>\"\")*(G$48:G$53<H$48:H$53),(G$48:G$53<>\"\")*(J$48:J$53=M49)*(H$48:H$53<>\"\")*(G$48:G$53>H$48:H$53))","v":0},{"$f":"SUM((E$48:E$53=M49)*(G$48:G$53)*(H$48:H$53<>\"\"),(J$48:J$53=M49)*(H$48:H$53)*(G$48:G$53<>\"\"))","v":0},{"$f":"SUM((E$48:E$53=M49)*(G$48:G$53<>\"\")*(H$48:H$53),(J$48:J$53=M49)*(H$48:H$53<>\"\")*(G$48:G$53))","v":0},{"$f":"S49-T49","v":0}]
[null,"2014-06-21",0.41666666666666663,"Belo Horizonte","Argentina",null,null,null,null,"Iran",null,{"$f":"IF(SUM(O$49:O$52)<>12,\"\",(SUMPRODUCT(((1000*N50+10*U50+S50)< (1000*(N$49:N$52)+10*(U$49:U$52)+(S$49:S$52)))+0)+1))","v":""},"Bosnia-Herzegovina",{"$f":"(P50*3+Q50*1)","v":0},{"$f":"SUM(P50:R50)","v":0},{"$f":"SUM((E$48:E$53=M50)*(G$48:G$53<>\"\")*(H$48:H$53<>\"\")*(G$48:G$53>H$48:H$53),(J$48:J$53=M50)*(G$48:G$53<>\"\")*(H$48:H$53<>\"\")*(G$48:G$53<H$48:H$53))","v":0},{"$f":"SUM((E$48:E$53=M50)*(G$48:G$53<>\"\")*(G$48:G$53=H$48:H$53),(J$48:J$53=M50)*(H$48:H$53<>\"\")*(G$48:G$53=H$48:H$53))","v":0},{"$f":"SUM((E$48:E$53=M50)*(H$48:H$53<>\"\")*(G$48:G$53<>\"\")*(G$48:G$53<H$48:H$53),(G$48:G$53<>\"\")*(J$48:J$53=M50)*(H$48:H$53<>\"\")*(G$48:G$53>H$48:H$53))","v":0},{"$f":"SUM((E$48:E$53=M50)*(G$48:G$53)*(H$48:H$53<>\"\"),(J$48:J$53=M50)*(H$48:H$53)*(G$48:G$53<>\"\"))","v":0},{"$f":"SUM((E$48:E$53=M50)*(G$48:G$53<>\"\")*(H$48:H$53),(J$48:J$53=M50)*(H$48:H$53<>\"\")*(G$48:G$53))","v":0},{"$f":"S50-T50","v":0}]
[null,"2014-06-21",0.66666666666666696,"Cuiaba","Nigeria",null,null,null,null,"Bosnia-Herzegovina",null,{"$f":"IF(SUM(O$49:O$52)<>12,\"\",(SUMPRODUCT(((1000*N51+10*U51+S51)< (1000*(N$49:N$52)+10*(U$49:U$52)+(S$49:S$52)))+0)+1))","v":""},"Iran",{"$f":"(P51*3+Q51*1)","v":0},{"$f":"SUM(P51:R51)","v":0},{"$f":"SUM((E$48:E$53=M51)*(G$48:G$53<>\"\")*(H$48:H$53<>\"\")*(G$48:G$53>H$48:H$53),(J$48:J$53=M51)*(G$48:G$53<>\"\")*(H$48:H$53<>\"\")*(G$48:G$53<H$48:H$53))","v":0},{"$f":"SUM((E$48:E$53=M51)*(G$48:G$53<>\"\")*(G$48:G$53=H$48:H$53),(J$48:J$53=M51)*(H$48:H$53<>\"\")*(G$48:G$53=H$48:H$53))","v":0},{"$f":"SUM((E$48:E$53=M51)*(H$48:H$53<>\"\")*(G$48:G$53<>\"\")*(G$48:G$53<H$48:H$53),(G$48:G$53<>\"\")*(J$48:J$53=M51)*(H$48:H$53<>\"\")*(G$48:G$53>H$48:H$53))","v":0},{"$f":"SUM((E$48:E$53=M51)*(G$48:G$53)*(H$48:H$53<>\"\"),(J$48:J$53=M51)*(H$48:H$53)*(G$48:G$53<>\"\"))","v":0},{"$f":"SUM((E$48:E$53=M51)*(G$48:G$53<>\"\")*(H$48:H$53),(J$48:J$53=M51)*(H$48:H$53<>\"\")*(G$48:G$53))","v":0},{"$f":"S51-T51","v":0}]
[null,"2014-06-25",0.41666666666666663,"Porto Alegre","Nigeria",null,null,null,null,"Argentina",null,{"$f":"IF(SUM(O$49:O$52)<>12,\"\",(SUMPRODUCT(((1000*N52+10*U52+S52)< (1000*(N$49:N$52)+10*(U$49:U$52)+(S$49:S$52)))+0)+1))","v":""},"Nigeria",{"$f":"(P52*3+Q52*1)","v":0},{"$f":"SUM(P52:R52)","v":0},{"$f":"SUM((E$48:E$53=M52)*(G$48:G$53<>\"\")*(H$48:H$53<>\"\")*(G$48:G$53>H$48:H$53),(J$48:J$53=M52)*(G$48:G$53<>\"\")*(H$48:H$53<>\"\")*(G$48:G$53<H$48:H$53))","v":0},{"$f":"SUM((E$48:E$53=M52)*(G$48:G$53<>\"\")*(G$48:G$53=H$48:H$53),(J$48:J$53=M52)*(H$48:H$53<>\"\")*(G$48:G$53=H$48:H$53))","v":0},{"$f":"SUM((E$48:E$53=M52)*(H$48:H$53<>\"\")*(G$48:G$53<>\"\")*(G$48:G$53<H$48:H$53),(G$48:G$53<>\"\")*(J$48:J$53=M52)*(H$48:H$53<>\"\")*(G$48:G$53>H$48:H$53))","v":0},{"$f":"SUM((E$48:E$53=M52)*(G$48:G$53)*(H$48:H$53<>\"\"),(J$48:J$53=M52)*(H$48:H$53)*(G$48:G$53<>\"\"))","v":0},{"$f":"SUM((E$48:E$53=M52)*(G$48:G$53<>\"\")*(H$48:H$53),(J$48:J$53=M52)*(H$48:H$53<>\"\")*(G$48:G$53))","v":0},{"$f":"S52-T52","v":0}]
[null,"2014-06-25",0.41666666666666663,"Salvador","Bosnia-Herzegovina",null,null,null,null,"Iran"]
[]
[null,"FECHA","HORA","LUGAR","Resultados Grupo G"]
[null,"2014-06-16",0.41666666666666663,"Salvador","Alemania",null,null,null,null,"Portugal",null,"Pos","EQUIPO","Pts","J","G","E","P","GF","GC","D"]
[null,"2014-06-16",0.66666666666666696,"Natal","Ghana",null,null,null,null,"USA",null,{"$f":"IF(SUM(O$57:O$60)<>12,\"\",(SUMPRODUCT(((1000*N57+10*U57+S57)< (1000*(N$57:N$60)+10*(U$57:U$60)+(S$57:S$60)))+0)+1))","v":""},"Alemania",{"$f":"(P57*3+Q57*1)","v":0},{"$f":"SUM(P57:R57)","v":0},{"$f":"SUM((E$56:E$61=M57)*(G$56:G$61<>\"\")*(H$56:H$61<>\"\")*(G$56:G$61>H$56:H$61),(J$56:J$61=M57)*(G$56:G$61<>\"\")*(H$56:H$61<>\"\")*(G$56:G$61<H$56:H$61))","v":0},{"$f":"SUM((E$56:E$61=M57)*(G$56:G$61<>\"\")*(G$56:G$61=H$56:H$61),(J$56:J$61=M57)*(H$56:H$61<>\"\")*(G$56:G$61=H$56:H$61))","v":0},{"$f":"SUM((E$56:E$61=M57)*(H$56:H$61<>\"\")*(G$56:G$61<>\"\")*(G$56:G$61<H$56:H$61),(G$56:G$61<>\"\")*(J$56:J$61=M57)*(H$56:H$61<>\"\")*(G$56:G$61>H$56:H$61))","v":0},{"$f":"SUM((E$56:E$61=M57)*(G$56:G$61)*(H$56:H$61<>\"\"),(J$56:J$61=M57)*(H$56:H$61)*(G$56:G$61<>\"\"))","v":0},{"$f":"SUM((E$56:E$61=M57)*(G$56:G$61<>\"\")*(H$56:H$61),(J$56:J$61=M57)*(H$56:H$61<>\"\")*(G$56:G$61))","v":0},{"$f":"S57-T57","v":0}]
[null,"2014-06-21",0.54166666666666663,"Fortaleza","Alemania",null,null,null,null,"Ghana",null,{"$f":"IF(SUM(O$57:O$60)<>12,\"\",(SUMPRODUCT(((1000*N58+10*U58+S58)< (1000*(N$57:N$60)+10*(U$57:U$60)+(S$57:S$60)))+0)+1))","v":""},"Portugal",{"$f":"(P58*3+Q58*1)","v":0},{"$f":"SUM(P58:R58)","v":0},{"$f":"SUM((E$56:E$61=M58)*(G$56:G$61<>\"\")*(H$56:H$61<>\"\")*(G$56:G$61>H$56:H$61),(J$56:J$61=M58)*(G$56:G$61<>\"\")*(H$56:H$61<>\"\")*(G$56:G$61<H$56:H$61))","v":0},{"$f":"SUM((E$56:E$61=M58)*(G$56:G$61<>\"\")*(G$56:G$61=H$56:H$61),(J$56:J$61=M58)*(H$56:H$61<>\"\")*(G$56:G$61=H$56:H$61))","v":0},{"$f":"SUM((E$56:E$61=M58)*(H$56:H$61<>\"\")*(G$56:G$61<>\"\")*(G$56:G$61<H$56:H$61),(G$56:G$61<>\"\")*(J$56:J$61=M58)*(H$56:H$61<>\"\")*(G$56:G$61>H$56:H$61))","v":0},{"$f":"SUM((E$56:E$61=M58)*(G$56:G$61)*(H$56:H$61<>\"\"),(J$56:J$61=M58)*(H$56:H$61)*(G$56:G$61<>\"\"))","v":0},{"$f":"SUM((E$56:E$61=M58)*(G$56:G$61<>\"\")*(H$56:H$61),(J$56:J$61=M58)*(H$56:H$61<>\"\")*(G$56:G$61))","v":0},{"$f":"S58-T58","v":0}]
[null,"2014-06-22",0.54166666666666663,"Manaus","USA",null,null,null,null,"Portugal",null,{"$f":"IF(SUM(O$57:O$60)<>12,\"\",(SUMPRODUCT(((1000*N59+10*U59+S59)< (1000*(N$57:N$60)+10*(U$57:U$60)+(S$57:S$60)))+0)+1))","v":""},"Ghana",{"$f":"(P59*3+Q59*1)","v":0},{"$f":"SUM(P59:R59)","v":0},{"$f":"SUM((E$56:E$61=M59)*(G$56:G$61<>\"\")*(H$56:H$61<>\"\")*(G$56:G$61>H$56:H$61),(J$56:J$61=M59)*(G$56:G$61<>\"\")*(H$56:H$61<>\"\")*(G$56:G$61<H$56:H$61))","v":0},{"$f":"SUM((E$56:E$61=M59)*(G$56:G$61<>\"\")*(G$56:G$61=H$56:H$61),(J$56:J$61=M59)*(H$56:H$61<>\"\")*(G$56:G$61=H$56:H$61))","v":0},{"$f":"SUM((E$56:E$61=M59)*(H$56:H$61<>\"\")*(G$56:G$61<>\"\")*(G$56:G$61<H$56:H$61),(G$56:G$61<>\"\")*(J$56:J$61=M59)*(H$56:H$61<>\"\")*(G$56:G$61>H$56:H$61))","v":0},{"$f":"SUM((E$56:E$61=M59)*(G$56:G$61)*(H$56:H$61<>\"\"),(J$56:J$61=M59)*(H$56:H$61)*(G$56:G$61<>\"\"))","v":0},{"$f":"SUM((E$56:E$61=M59)*(G$56:G$61<>\"\")*(H$56:H$61),(J$56:J$61=M59)*(H$56:H$61<>\"\")*(G$56:G$61))","v":0},{"$f":"S59-T59","v":0}]
[null,"2014-06-26",0.41666666666666663,"Recife","USA",null,null,null,null,"Alemania",null,{"$f":"IF(SUM(O$57:O$60)<>12,\"\",(SUMPRODUCT(((1000*N60+10*U60+S60)< (1000*(N$57:N$60)+10*(U$57:U$60)+(S$57:S$60)))+0)+1))","v":""},"USA",{"$f":"(P60*3+Q60*1)","v":0},{"$f":"SUM(P60:R60)","v":0},{"$f":"SUM((E$56:E$61=M60)*(G$56:G$61<>\"\")*(H$56:H$61<>\"\")*(G$56:G$61>H$56:H$61),(J$56:J$61=M60)*(G$56:G$61<>\"\")*(H$56:H$61<>\"\")*(G$56:G$61<H$56:H$61))","v":0},{"$f":"SUM((E$56:E$61=M60)*(G$56:G$61<>\"\")*(G$56:G$61=H$56:H$61),(J$56:J$61=M60)*(H$56:H$61<>\"\")*(G$56:G$61=H$56:H$61))","v":0},{"$f":"SUM((E$56:E$61=M60)*(H$56:H$61<>\"\")*(G$56:G$61<>\"\")*(G$56:G$61<H$56:H$61),(G$56:G$61<>\"\")*(J$56:J$61=M60)*(H$56:H$61<>\"\")*(G$56:G$61>H$56:H$61))","v":0},{"$f":"SUM((E$56:E$61=M60)*(G$56:G$61)*(H$56:H$61<>\"\"),(J$56:J$61=M60)*(H$56:H$61)*(G$56:G$61<>\"\"))","v":0},{"$f":"SUM((E$56:E$61=M60)*(G$56:G$61<>\"\")*(H$56:H$61),(J$56:J$61=M60)*(H$56:H$61<>\"\")*(G$56:G$61))","v":0},{"$f":"S60-T60","v":0}]
[null,"2014-06-26",0.41666666666666663,"Brasilia","Portugal",null,null,null,null,"Ghana"]
[]
[null,"FECHA","HORA","LUGAR","Resultados Grupo H"]
[null,"2014-06-17",0.41666666666666663,"Belo Horizonte","Belgica",null,null,null,null,"Argelia",null,"Pos","EQUIPO","Pts","J","G","E","P","GF","GC","D"]
[null,"2014-06-17",0.66666666666666696,"Cuiaba","Rusia",null,null,null,null,"Corea del Sur",null,{"$f":"IF(SUM(O$65:O$68)<>12,\"\",(SUMPRODUCT(((1000*N65+10*U65+S65)< (1000*(N$65:N$68)+10*(U$65:U$68)+(S$65:S$68)))+0)+1))","v":""},"Belgica",{"$f":"(P65*3+Q65*1)","v":0},{"$f":"SUM(P65:R65)","v":0},{"$f":"SUM((E$64:E$69=M65)*(G$64:G$69<>\"\")*(H$64:H$69<>\"\")*(G$64:G$69>H$64:H$69),(J$64:J$69=M65)*(G$64:G$69<>\"\")*(H$64:H$69<>\"\")*(G$64:G$69<H$64:H$69))","v":0},{"$f":"SUM((E$64:E$69=M65)*(G$64:G$69<>\"\")*(G$64:G$69=H$64:H$69),(J$64:J$69=M65)*(H$64:H$69<>\"\")*(G$64:G$69=H$64:H$69))","v":0},{"$f":"SUM((E$64:E$69=M65)*(H$64:H$69<>\"\")*(G$64:G$69<>\"\")*(G$64:G$69<H$64:H$69),(G$64:G$69<>\"\")*(J$64:J$69=M65)*(H$64:H$69<>\"\")*(G$64:G$69>H$64:H$69))","v":0},{"$f":"SUM((E$64:E$69=M65)*(G$64:G$69)*(H$64:H$69<>\"\"),(J$64:J$69=M65)*(H$64:H$69)*(G$64:G$69<>\"\"))","v":0},{"$f":"SUM((E$64:E$69=M65)*(G$64:G$69<>\"\")*(H$64:H$69),(J$64:J$69=M65)*(H$64:H$69<>\"\")*(G$64:G$69))","v":0},{"$f":"S65-T65","v":0}]
[null,"2014-06-22",0.66666666666666696,"Rio de Janeiro","Belgica",null,null,null,null,"Rusia",null,{"$f":"IF(SUM(O$65:O$68)<>12,\"\",(SUMPRODUCT(((1000*N66+10*U66+S66)< (1000*(N$65:N$68)+10*(U$65:U$68)+(S$65:S$68)))+0)+1))","v":""},"Argelia",{"$f":"(P66*3+Q66*1)","v":0},{"$f":"SUM(P66:R66)","v":0},{"$f":"SUM((E$64:E$69=M66)*(G$64:G$69<>\"\")*(H$64:H$69<>\"\")*(G$64:G$69>H$64:H$69),(J$64:J$69=M66)*(G$64:G$69<>\"\")*(H$64:H$69<>\"\")*(G$64:G$69<H$64:H$69))","v":0},{"$f":"SUM((E$64:E$69=M66)*(G$64:G$69<>\"\")*(G$64:G$69=H$64:H$69),(J$64:J$69=M66)*(H$64:H$69<>\"\")*(G$64:G$69=H$64:H$69))","v":0},{"$f":"SUM((E$64:E$69=M66)*(H$64:H$69<>\"\")*(G$64:G$69<>\"\")*(G$64:G$69<H$64:H$69),(G$64:G$69<>\"\")*(J$64:J$69=M66)*(H$64:H$69<>\"\")*(G$64:G$69>H$64:H$69))","v":0},{"$f":"SUM((E$64:E$69=M66)*(G$64:G$69)*(H$64:H$69<>\"\"),(J$64:J$69=M66)*(H$64:H$69)*(G$64:G$69<>\"\"))","v":0},{"$f":"SUM((E$64:E$69=M66)*(G$64:G$69<>\"\")*(H$64:H$69),(J$64:J$69=M66)*(H$64:H$69<>\"\")*(G$64:G$69))","v":0},{"$f":"S66-T66","v":0}]
[null,"2014-06-22",0.41666666666666663,"Porto Alegre","Corea del Sur",null,null,null,null,"Argelia",null,{"$f":"IF(SUM(O$65:O$68)<>12,\"\",(SUMPRODUCT(((1000*N67+10*U67+S67)< (1000*(N$65:N$68)+10*(U$65:U$68)+(S$65:S$68)))+0)+1))","v":""},"Rusia",{"$f":"(P67*3+Q67*1)","v":0},{"$f":"SUM(P67:R67)","v":0},{"$f":"SUM((E$64:E$69=M67)*(G$64:G$69<>\"\")*(H$64:H$69<>\"\")*(G$64:G$69>H$64:H$69),(J$64:J$69=M67)*(G$64:G$69<>\"\")*(H$64:H$69<>\"\")*(G$64:G$69<H$64:H$69))","v":0},{"$f":"SUM((E$64:E$69=M67)*(G$64:G$69<>\"\")*(G$64:G$69=H$64:H$69),(J$64:J$69=M67)*(H$64:H$69<>\"\")*(G$64:G$69=H$64:H$69))","v":0},{"$f":"SUM((E$64:E$69=M67)*(H$64:H$69<>\"\")*(G$64:G$69<>\"\")*(G$64:G$69<H$64:H$69),(G$64:G$69<>\"\")*(J$64:J$69=M67)*(H$64:H$69<>\"\")*(G$64:G$69>H$64:H$69))","v":0},{"$f":"SUM((E$64:E$69=M67)*(G$64:G$69)*(H$64:H$69<>\"\"),(J$64:J$69=M67)*(H$64:H$69)*(G$64:G$69<>\"\"))","v":0},{"$f":"SUM((E$64:E$69=M67)*(G$64:G$69<>\"\")*(H$64:H$69),(J$64:J$69=M67)*(H$64:H$69<>\"\")*(G$64:G$69))","v":0},{"$f":"S67-T67","v":0}]
[null,"2014-06-26",0.58333333333333304,"Sao Paulo","Corea del Sur",null,null,null,null,"Belgica",null,{"$f":"IF(SUM(O$65:O$68)<>12,\"\",(SUMPRODUCT(((1000*N68+10*U68+S68)< (1000*(N$65:N$68)+10*(U$65:U$68)+(S$65:S$68)))+0)+1))","v":""},"Corea del Sur",{"$f":"(P68*3+Q68*1)","v":0},{"$f":"SUM(P68:R68)","v":0},{"$f":"SUM((E$64:E$69=M68)*(G$64:G$69<>\"\")*(H$64:H$69<>\"\")*(G$64:G$69>H$64:H$69),(J$64:J$69=M68)*(G$64:G$69<>\"\")*(H$64:H$69<>\"\")*(G$64:G$69<H$64:H$69))","v":0},{"$f":"SUM((E$64:E$69=M68)*(G$64:G$69<>\"\")*(G$64:G$69=H$64:H$69),(J$64:J$69=M68)*(H$64:H$69<>\"\")*(G$64:G$69=H$64:H$69))","v":0},{"$f":"SUM((E$64:E$69=M68)*(H$64:H$69<>\"\")*(G$64:G$69<>\"\")*(G$64:G$69<H$64:H$69),(G$64:G$69<>\"\")*(J$64:J$69=M68)*(H$64:H$69<>\"\")*(G$64:G$69>H$64:H$69))","v":0},{"$f":"SUM((E$64:E$69=M68)*(G$64:G$69)*(H$64:H$69<>\"\"),(J$64:J$69=M68)*(H$64:H$69)*(G$64:G$69<>\"\"))","v":0},{"$f":"SUM((E$64:E$69=M68)*(G$64:G$69<>\"\")*(H$64:H$69),(J$64:J$69=M68)*(H$64:H$69<>\"\")*(G$64:G$69))","v":0},{"$f":"S68-T68","v":0}]
[null,"2014-06-26",0.58333333333333304,"Curitiba","Argelia",null,null,null,null,"Rusia"]
[]
[null,null,null,null,null,null,null,null,null,null,null,"Pos","EQUIPO","Pts","J","G","E","P","GF","GC","D"]
[null,null,null,null,null,null,null,null,null,null,null,{"$f":"IF(COUNTIF(M$90:M$97,$M72),INDEX(L$90:L$97,MATCH($M72,M$90:M$97,0)),(SUMPRODUCT(((1000*O72*P72+30*S72-20*T72+U72)<(1000*(O$72:O$87)*(P$72:P$87)+30*(S$72:S$87)-20*(T$72:T$87)+(U$72:U$87)))+0)+1))","v":1},{"$f":"IF(LEFT($E76,2)=\"1.\",\"-\",$E76)","v":"-"},null,{"$f":"IF(M72=\"-\",0,IF(COUNTIF($E$92:$J$95,M72),1,IF(COUNTIF($E$76:$E$83,M72)=1,IF(COUNTIF($E$92:$J$95,VLOOKUP(M72,$E$76:$J$83,6,FALSE))=1,1,0),IF(COUNTIF($E$92:$J$95,INDEX($E$76:$E$83,MATCH(M72,$J$76:$J$83,0),1))=1,1,0))))","v":0},{"$f":"IF($O72=1,IF(COUNTIF($E$76:$E$83,$M72)=1,IF(((VLOOKUP($M72,$E$76:$I$83,2,FALSE)+VLOOKUP($M72,$E$76:$I$83,3,FALSE)))>(VLOOKUP($M72,$E$76:$I$83,4,FALSE)+VLOOKUP($M72,$E$76:$I$83,5,FALSE)),1,0),IF((INDEX($F$76:$F$83,MATCH($M72,$J$76:$J$83,0))+INDEX($G$76:$G$83,MATCH($M72,$J$76:$J$83,0)))>(INDEX($H$76:$H$83,MATCH($M72,$J$76:$J$83,0))+INDEX($I$76:$I$83,MATCH($M72,$J$76:$J$83,0))),0,1)),0)","v":0},null,{"$f":"ABS(O72-P72)","v":0},{"$f":"IF($O72=1,IF(COUNTIF($E$76:$E$83,$M72)=1,VLOOKUP($M72,$E$76:$H$83,3,FALSE),INDEX($H$76:$H$83,MATCH($M72,$J$76:$J$83,0),1)),0)","v":0},{"$f":"IF($O72=1,IF(COUNTIF($E$76:$E$83,$M72)=1,VLOOKUP($M72,$E$76:$H$83,4,FALSE),INDEX($G$76:$G$83,MATCH($M72,$J$76:$J$83,0),1)),0)","v":0},{"$f":"IF($O72=1,IF(COUNTIF($E$76:$E$83,$M72)=1,VLOOKUP($M72,$E$76:$I$83,2,FALSE),INDEX($I$76:$I$83,MATCH($M72,$J$76:$J$83,0),1)),0)+S72-T72-IF($O72=1,IF(COUNTIF($E$76:$E$83,$M72)=1,VLOOKUP($M72,$E$76:$I$83,5,FALSE),INDEX($F$76:$F$83,MATCH($M72,$J$76:$J$83,0),1)),0)","v":0}]
[null,null,null,null,null,null,null,null,null,null,null,1,{"$f":"IF(LEFT($E77,2)=\"1.\",\"-\",$E77)","v":"-"},null,0,0,null,0,0,0,0]
[null,null,null,null,null,null,null,null,null,null,null,1,"-",null,0,0,null,0,0,0,0]
[null,"FECHA","HORA","LUGAR","Resultados Octavos de Final",null,null,null,null,null,null,1,"-",null,0,0,null,0,0,0,0]
[null,"2014-06-28",0.41666666666666663,"Belo Horizonte",{"$f":"IF(SUM(O$9:O$12)=12,VLOOKUP(1,$L$9:$M$12,2,FALSE),\"1. Grupo A\")","v":"1. Grupo A"},null,null,null,null,{"$f":"IF(SUM(O$17:O$20)=12,IF(COUNTIF($L$17:$L$20,1)>=2,(VLOOKUP(1,INDIRECT(ADDRESS(ROW(L$17:L$20)+MATCH(1,(L$17:L$20),0),COLUMN($L$8))&\":$M$20\"),2,FALSE)),VLOOKUP(2,$L$17:$M$20,2,FALSE)),\"2. Grupo B\")","v":"2. Grupo B"},null,1,"-",null,0,0,null,0,0,0,0]
[null,"2014-06-28",0.58333333333333337,"Rio de Janeiro",{"$f":"IF(SUM(O$25:$O28)=12,VLOOKUP(1,$L$25:$M$28,2,FALSE),\"1. Grupo C\")","v":"1. Grupo C"},null,null,null,null,{"$f":"IF(SUM(O$33:O$36)=12,IF(COUNTIF($L$33:$L$36,1)>=2,(VLOOKUP(1,INDIRECT(ADDRESS(ROW(L$33:L$36)+MATCH(1,(L$33:L$36),0),COLUMN($L$8))&\":$M$36\"),2,FALSE)),VLOOKUP(2,$L$33:$M$36,2,FALSE)),\"2. Grupo D\")","v":"2. Grupo D"},null,1,"-",null,0,0,null,0,0,0,0]
[null,"2014-06-29",0.41666666666666663,"Fortaleza",{"$f":"IF(SUM(O$17:O$20)=12,VLOOKUP(1,$L$17:$M$20,2,FALSE),\"1. Grupo B\")","v":"1. Grupo B"},null,null,null,null,{"$f":"IF(SUM(O$9:O$12)=12,IF(COUNTIF($L$9:$L$12,1)>=2,(VLOOKUP(1,INDIRECT(ADDRESS(ROW(L$9:L$12)+MATCH(1,(L$9:L$12),0),COLUMN($L$8))&\":$M$12\"),2,FALSE)),VLOOKUP(2,$L$9:$M$12,2,FALSE)),\"2. Grupo A\")","v":"2. Grupo A"},null,1,"-",null,0,0,null,0,0,0,0]
[null,"2014-06-29",0.58333333333333304,"Recife",{"$f":"IF(SUM(O$33:O$36)=12,VLOOKUP(1,$L$33:$M$36,2,FALSE),\"1. Grupo D\")","v":"1. Grupo D"},null,null,null,null,{"$f":"IF(SUM(O$25:O$28)=12,IF(COUNTIF($L$25:$L$28,1)>=2,(VLOOKUP(1,INDIRECT(ADDRESS(ROW(L$25:L$28)+MATCH(1,(L$25:L$28),0),COLUMN($L$8))&\":$M$28\"),2,FALSE)),VLOOKUP(2,$L$25:$M$28,2,FALSE)),\"2. Grupo C\")","v":"2. Grupo C"},null,1,"-",null,0,0,null,0,0,0,0]
[null,"2014-06-30",0.41666666666666663,"Brasilia",{"$f":"IF(SUM(O$41:O$44)=12,VLOOKUP(1,$L$41:$M$44,2,FALSE),\"1. Grupo E\")","v":"1. Grupo E"},null,null,null,null,{"$f":"IF(SUM(O$49:O$52)=12,IF(COUNTIF($L$49:$L$52,1)>=2,(VLOOKUP(1,INDIRECT(ADDRESS(ROW(L$49:L$52)+MATCH(1,(L$49:L$52),0),COLUMN($L$8))&\":$M$52\"),2,FALSE)),VLOOKUP(2,$L$49:$M$52,2,FALSE)),\"2. Grupo F\")","v":"2. Grupo F"},null,1,{"$f":"IF(LEFT($J76,2)=\"2.\",\"-\",$J76)","v":"-"},null,0,0,null,0,0,0,0]
[null,"2014-06-30",0.58333333333333304,"Porto Alegre",{"$f":"IF(SUM(O$57:O$60)=12,VLOOKUP(1,$L$57:$M$60,2,FALSE),\"1. Grupo G\")","v":"1. Grupo G"},null,null,null,null,{"$f":"IF(SUM(O$65:O$68)=12,IF(COUNTIF($L$65:$L$68,1)>=2,(VLOOKUP(1,INDIRECT(ADDRESS(ROW(L$65:L$68)+MATCH(1,(L$65:L$68),0),COLUMN($L$8))&\":$M$68\"),2,FALSE)),VLOOKUP(2,$L$65:$M$68,2,FALSE)),\"2. Grupo H\")","v":"2. Grupo H"},null,1,{"$f":"IF(LEFT($J77,2)=\"2.\",\"-\",$J77)","v":"-"},null,0,0,null,0,0,0,0]
[null,"2014-07-01",0.41666666666666663,"Sao Paulo",{"$f":"IF(SUM(O$49:O$52)=12,VLOOKUP(1,$L$49:$M$52,2,FALSE),\"1. Grupo F\")","v":"1. Grupo F"},null,null,null,null,{"$f":"IF(SUM(O$41:O$44)=12,IF(COUNTIF($L$41:$L$44,1)>=2,(VLOOKUP(1,INDIRECT(ADDRESS(ROW(L$41:L$44)+MATCH(1,(L$41:L$44),0),COLUMN($L$8))&\":$M$44\"),2,FALSE)),VLOOKUP(2,$L$41:$M$44,2,FALSE)),\"2. Grupo E\")","v":"2. Grupo E"},null,1,"-",null,0,0,null,0,0,0,0]
[null,"2014-07-01",0.58333333333333304,"Salvador",{"$f":"IF(SUM(O$65:O$68)=12,VLOOKUP(1,$L$65:$M$68,2,FALSE),\"1. Grupo H\")","v":"1. Grupo H"},null,null,null,null,{"$f":"IF(SUM(O$57:O$60)=12,IF(COUNTIF($L$57:$L$60,1)>=2,(VLOOKUP(1,INDIRECT(ADDRESS(ROW(L$57:L$60)+MATCH(1,(L$57:L$60),0),COLUMN($L$8))&\":$M$60\"),2,FALSE)),VLOOKUP(2,$L$57:$M$60,2,FALSE)),\"2. Grupo G\")","v":"2. Grupo G"},null,1,"-",null,0,0,null,0,0,0,0]
[null,null,null,null,null,null,null,null,null,null,null,1,"-",null,0,0,null,0,0,0,0]
[null,null,null,null,null,null,null,null,null,null,null,1,"-",null,0,0,null,0,0,0,0]
[null,null,null,null,null,null,null,null,null,null,null,1,"-",null,0,0,null,0,0,0,0]
[null,null,null,null,null,null,null,null,null,null,null,1,"-",null,0,0,null,0,0,0,0]
[]
[null,null,null,null,null,null,null,null,null,null,null,"Pos","EQUIPO","Pts","J","G","E","P","GF","GC","D"]
[null,null,null,null,null,null,null,null,null,null,null,{"$f":"IF(COUNTIF(M$100:M$103,$M90),INDEX(L$100:L$103,MATCH($M90,M$100:M$103,0)),IF($O90=0,\"\",(SUMPRODUCT(((1000*O90*P90+30*S90-20*T90+U90)<(1000*(O$90:O$97)*(P$90:P$97)+30*(S$90:S$97)-20*(T$90:T$97)+(U$90:U$97)))+0)+1)))","v":""},{"$f":"IF(LEFT($E92,2)=\"Vence\",\"-\",$E92)","v":"Vencedor OF1"},null,{"$f":"IF(M90=\"-\",0,IF(COUNTIF($E$101:$J$102,M90),1,IF(COUNTIF($E$92:$E$95,M90)=1,IF(COUNTIF($E$101:$J$102,VLOOKUP(M90,$E$92:$J$95,6,FALSE))=1,1,0),IF(COUNTIF($E$101:$J$102,INDEX($E$92:$E$95,MATCH(M90,$J$92:$J$95,0),1))=1,1,0))))","v":0},{"$f":"IF($O90=1,IF(COUNTIF($E$92:$E$95,$M90)=1,IF(((VLOOKUP($M90,$E$92:$I$95,2,FALSE)+VLOOKUP($M90,$E$92:$I$95,3,FALSE)))>(VLOOKUP($M90,$E$92:$I$95,4,FALSE)+VLOOKUP($M90,$E$92:$I$95,5,FALSE)),1,0),IF((INDEX($F$92:$F$95,MATCH($M90,$J$92:$J$95,0))+INDEX($G$92:$G$95,MATCH($M90,$J$92:$J$95,0)))>(INDEX($H$92:$H$95,MATCH($M90,$J$92:$J$95,0))+INDEX($I$92:$I$95,MATCH($M90,$J$92:$J$95,0))),0,1)),0)","v":0},null,{"$f":"ABS(O90-P90)","v":0},{"$f":"IF($O90=1,IF(COUNTIF($E$92:$E$95,$M90)=1,VLOOKUP($M90,$E$92:$H$95,3,FALSE),INDEX($H$92:$H$95,MATCH($M90,$J$92:$J$95,0),1)),0)","v":0},{"$f":"IF($O90=1,IF(COUNTIF($E$92:$E$95,$M90)=1,VLOOKUP($M90,$E$92:$H$95,4,FALSE),INDEX($G$92:$G$95,MATCH($M90,$J$92:$J$95,0),1)),0)","v":0},{"$f":"IF($O90=1,IF(COUNTIF($E$92:$E$95,$M90)=1,VLOOKUP($M90,$E$92:$I$95,2,FALSE),INDEX($I$92:$I$95,MATCH($M90,$J$92:$J$95,0),1)),0)+S90-T90-IF($O90=1,IF(COUNTIF($E$92:$E$95,$M90)=1,VLOOKUP($M90,$E$92:$I$95,5,FALSE),INDEX($F$92:$F$95,MATCH($M90,$J$92:$J$95,0),1)),0)","v":0}]
[null,"FECHA","HORA","LUGAR","Resultados Cuartos de Final",null,null,null,null,null,null,"",{"$f":"IF(LEFT($E93,2)=\"Vence\",\"-\",$E93)","v":"Vencedor OF5"},null,0,0,null,0,0,0,0]
[null,"2014-07-04",0.58333333333333304,"Fortaleza",{"$f":"IF((OR(LEFT(E76,2)=\"1.\",LEFT(J76,2)=\"2.\")),\"Vencedor OF1\",IF(AND(COUNT(F76:I76)=4,G76=H76,F76<>I76),IF(F76+G76>H76+I76,E76,J76),IF(AND(COUNT(F76:I76)=2,F76&I76=\"\",G76<>H76),IF(G76>H76,E76,J76),\"Vencedor OF1\")))","v":"Vencedor OF1"},null,null,null,null,{"$f":"IF((OR(LEFT(E77,2)=\"1.\",LEFT(J77,2)=\"2.\")),\"Vencedor OF2\",IF(AND(COUNT(F77:I77)=4,G77=H77,F77<>I77),IF(F77+G77>H77+I77,E77,J77),IF(AND(COUNT(F77:I77)=2,F77&I77=\"\",G77<>H77),IF(G77>H77,E77,J77),\"Vencedor OF2\")))","v":"Vencedor OF2"},null,"","Vencedor OF3",null,0,0,null,0,0,0,0]
[null,"2014-07-04",0.41666666666666663,"Rio de Janeiro",{"$f":"IF((OR(LEFT(E80,2)=\"1.\",LEFT(J80,2)=\"2.\")),\"Vencedor OF5\",IF(AND(COUNT(F80:I80)=4,G80=H80,F80<>I80),IF(F80+G80>H80+I80,E80,J80),IF(AND(COUNT(F80:I80)=2,F80&I80=\"\",G80<>H80),IF(G80>H80,E80,J80),\"Vencedor OF5\")))","v":"Vencedor OF5"},null,null,null,null,{"$f":"IF((OR(LEFT(E81,2)=\"1.\",LEFT(J81,2)=\"2.\")),\"Vencedor OF6\",IF(AND(COUNT(F81:I81)=4,G81=H81,F81<>I81),IF(F81+G81>H81+I81,E81,J81),IF(AND(COUNT(F81:I81)=2,F81&I81=\"\",G81<>H81),IF(G81>H81,E81,J81),\"Vencedor OF6\")))","v":"Vencedor OF6"},null,"","Vencedor OF7",null,0,0,null,0,0,0,0]
[null,"2014-07-05",0.58333333333333304,"Salvador",{"$f":"IF((OR(LEFT(E78,2)=\"1.\",LEFT(J78,2)=\"2.\")),\"Vencedor OF3\",IF(AND(COUNT(F78:I78)=4,G78=H78,F78<>I78),IF(F78+G78>H78+I78,E78,J78),IF(AND(COUNT(F78:I78)=2,F78&I78=\"\",G78<>H78),IF(G78>H78,E78,J78),\"Vencedor OF3\")))","v":"Vencedor OF3"},null,null,null,null,{"$f":"IF((OR(LEFT(E79,2)=\"1.\",LEFT(J79,2)=\"2.\")),\"Vencedor OF4\",IF(AND(COUNT(F79:I79)=4,G79=H79,F79<>I79),IF(F79+G79>H79+I79,E79,J79),IF(AND(COUNT(F79:I79)=2,F79&I79=\"\",G79<>H79),IF(G79>H79,E79,J79),\"Vencedor OF4\")))","v":"Vencedor OF4"},null,"",{"$f":"IF(LEFT($J92,2)=\"Vence\",\"-\",$J92)","v":"Vencedor OF2"},null,0,0,null,0,0,0,0]
[null,"2014-07-05",0.41666666666666663,"Brasilia",{"$f":"IF((OR(LEFT(E82,2)=\"1.\",LEFT(J82,2)=\"2.\")),\"Vencedor OF7\",IF(AND(COUNT(F82:I82)=4,G82=H82,F82<>I82),IF(F82+G82>H82+I82,E82,J82),IF(AND(COUNT(F82:I82)=2,F82&I82=\"\",G82<>H82),IF(G82>H82,E82,J82),\"Vencedor OF7\")))","v":"Vencedor OF7"},null,null,null,null,{"$f":"IF((OR(LEFT(E83,2)=\"1.\",LEFT(J83,2)=\"2.\")),\"Vencedor OF8\",IF(AND(COUNT(F83:I83)=4,G83=H83,F83<>I83),IF(F83+G83>H83+I83,E83,J83),IF(AND(COUNT(F83:I83)=2,F83&I83=\"\",G83<>H83),IF(G83>H83,E83,J83),\"Vencedor OF8\")))","v":"Vencedor OF8"},null,"",{"$f":"IF(LEFT($J93,2)=\"Vence\",\"-\",$J93)","v":"Vencedor OF6"},null,0,0,null,0,0,0,0]
[null,null,null,null,null,null,null,null,null,null,null,"","Vencedor OF4",null,0,0,null,0,0,0,0]
[null,null,null,null,null,null,null,null,null,null,null,"","Vencedor OF8",null,0,0,null,0,0,0,0]
[]
[null,null,null,null,null,null,null,null,null,null,null,"Pos","EQUIPO","Pts","J","G","E","P","GF","GC","D"]
[null,"FECHA","HORA","LUGAR","Resultados Semifinales",null,null,null,null,null,null,{"$f":"IF($O100=0,\"\",INDEX(L$106:L$112,MATCH($M100,M$106:M$112,0)))","v":""},{"$f":"IF(LEFT($E101,2)=\"Gana\",\"-\",$E101)","v":"Ganador Cuartos 1"},null,{"$f":"IF(M100=\"-\",0,IF(COUNTIF($E$112:$J$112,M100),1,IF(COUNTIF($E$101:$E$102,M100)=1,IF(COUNTIF($E$112:$J$112,VLOOKUP(M100,$E$101:$J$102,6,FALSE))=1,1,0),IF(COUNTIF($E$112:$J$112,INDEX($E$101:$E$102,MATCH(M100,$J$101:$J$102,0),1))=1,1,0))))","v":0},{"$f":"IF($O100=1,IF(COUNTIF($E$101:$E$102,$M100)=1,IF(((VLOOKUP($M100,$E$101:$I$102,2,FALSE)+VLOOKUP($M100,$E$101:$I$102,3,FALSE)))>(VLOOKUP($M100,$E$101:$I$102,4,FALSE)+VLOOKUP($M100,$E$101:$I$102,5,FALSE)),1,0),IF((INDEX($F$101:$F$102,MATCH($M100,$J$101:$J$102,0))+INDEX($G$101:$G$102,MATCH($M100,$J$101:$J$102,0)))>(INDEX($H$101:$H$102,MATCH($M100,$J$101:$J$102,0))+INDEX($I$101:$I$102,MATCH($M100,$J$101:$J$102,0))),0,1)),0)","v":0},null,{"$f":"ABS(O100-P100)","v":0},{"$f":"IF($O100=1,IF(COUNTIF($E$101:$E$102,$M100)=1,VLOOKUP($M100,$E$101:$H$102,3,FALSE),INDEX($H$101:$H$102,MATCH($M100,$J$101:$J$102,0),1)),0)","v":0},{"$f":"IF($O100=1,IF(COUNTIF($E$101:$E$102,$M100)=1,VLOOKUP($M100,$E$101:$H$102,4,FALSE),INDEX($G$101:$G$102,MATCH($M100,$J$101:$J$102,0),1)),0)","v":0},{"$f":"IF($O100=1,IF(COUNTIF($E$101:$E$102,$M100)=1,VLOOKUP($M100,$E101:$I$102,2,FALSE),INDEX($I$101:$I$102,MATCH($M100,$J$101:$J$102,0),1)),0)+S100-T100-IF($O100=1,IF(COUNTIF($E$101:$E$102,$M100)=1,VLOOKUP($M100,$E$101:$I$102,5,FALSE),INDEX($F$101:$F$102,MATCH($M100,$J$101:$J$102,0),1)),0)","v":0}]
[null,"2014-07-08",0.58333333333333304,"Belo Horizonte",{"$f":"IF(OR(LEFT(E92,5)=\"Vence\",LEFT(J92,5)=\"Vence\"),\"Ganador Cuartos 1\",IF(AND(COUNT(F92:I92)=4,G92=H92,F92<>I92),IF(F92+G92>H92+I92,E92,J92),IF(AND(COUNT(F92:I92)=2,F92&I92=\"\",G92<>H92),IF(G92>H92,E92,J92),\"Ganador Cuartos 1\")))","v":"Ganador Cuartos 1"},null,null,null,null,{"$f":"IF(OR(LEFT(E93,5)=\"Vence\",LEFT(J93,5)=\"Vence\"),\"Ganador Cuartos 2\",IF(AND(COUNT(F93:I93)=4,G93=H93,F93<>I93),IF(F93+G93>H93+I93,E93,J93),IF(AND(COUNT(F93:I93)=2,F93&I93=\"\",G93<>H93),IF(G93>H93,E93,J93),\"Ganador Cuartos 2\")))","v":"Ganador Cuartos 2"},null,{"$f":"IF($O101=0,\"\",INDEX(L$106:L$112,MATCH($M101,M$106:M$112,0)))","v":""},{"$f":"IF(LEFT($E102,2)=\"Gana\",\"-\",$E102)","v":"Ganador Cuartos 3"},null,{"$f":"IF(M101=\"-\",0,IF(COUNTIF($E$112:$J$112,M101),1,IF(COUNTIF($E$101:$E$102,M101)=1,IF(COUNTIF($E$112:$J$112,VLOOKUP(M101,$E$101:$J$102,6,FALSE))=1,1,0),IF(COUNTIF($E$112:$J$112,INDEX($E$101:$E$102,MATCH(M101,$J$101:$J$102,0),1))=1,1,0))))","v":0},{"$f":"IF($O101=1,IF(COUNTIF($E$101:$E$102,$M101)=1,IF(((VLOOKUP($M101,$E$101:$I$102,2,FALSE)+VLOOKUP($M101,$E$101:$I$102,3,FALSE)))>(VLOOKUP($M101,$E$101:$I$102,4,FALSE)+VLOOKUP($M101,$E$101:$I$102,5,FALSE)),1,0),IF((INDEX($F$101:$F$102,MATCH($M101,$J$101:$J$102,0))+INDEX($G$101:$G$102,MATCH($M101,$J$101:$J$102,0)))>(INDEX($H$101:$H$102,MATCH($M101,$J$101:$J$102,0))+INDEX($I$101:$I$102,MATCH($M101,$J$101:$J$102,0))),0,1)),0)","v":0},null,{"$f":"ABS(O101-P101)","v":0},{"$f":"IF($O101=1,IF(COUNTIF($E$101:$E$102,$M101)=1,VLOOKUP($M101,$E$101:$H$102,3,FALSE),INDEX($H$101:$H$102,MATCH($M101,$J$101:$J$102,0),1)),0)","v":0},{"$f":"IF($O101=1,IF(COUNTIF($E$101:$E$102,$M101)=1,VLOOKUP($M101,$E$101:$H$102,4,FALSE),INDEX($G$101:$G$102,MATCH($M101,$J$101:$J$102,0),1)),0)","v":0},{"$f":"IF($O101=1,IF(COUNTIF($E$101:$E$102,$M101)=1,VLOOKUP($M101,$E102:$I$102,2,FALSE),INDEX($I$101:$I$102,MATCH($M101,$J$101:$J$102,0),1)),0)+S101-T101-IF($O101=1,IF(COUNTIF($E$101:$E$102,$M101)=1,VLOOKUP($M101,$E$101:$I$102,5,FALSE),INDEX($F$101:$F$102,MATCH($M101,$J$101:$J$102,0),1)),0)","v":0}]
[null,"2014-07-09",0.58333333333333304,"Sao Paulo",{"$f":"IF(OR(LEFT(E94,5)=\"Vence\",LEFT(J94,5)=\"Vence\"),\"Ganador Cuartos 3\",IF(AND(COUNT(F94:I94)=4,G94=H94,F94<>I94),IF(F94+G94>H94+I94,E94,J94),IF(AND(COUNT(F94:I94)=2,F94&I94=\"\",G94<>H94),IF(G94>H94,E94,J94),\"Ganador Cuartos 3\")))","v":"Ganador Cuartos 3"},null,null,null,null,{"$f":"IF(OR(LEFT(E95,5)=\"Vence\",LEFT(J95,5)=\"Vence\"),\"Ganador Cuartos 4\",IF(AND(COUNT(F95:I95)=4,G95=H95,F95<>I95),IF(F95+G95>H95+I95,E95,J95),IF(AND(COUNT(F95:I95)=2,F95&I95=\"\",G95<>H95),IF(G95>H95,E95,J95),\"Ganador Cuartos 4\")))","v":"Ganador Cuartos 4"},null,{"$f":"IF($O102=0,\"\",INDEX(L$106:L$112,MATCH($M102,M$106:M$112,0)))","v":""},{"$f":"IF(LEFT($J101,2)=\"Gana\",\"-\",$J101)","v":"Ganador Cuartos 2"},null,{"$f":"IF(M102=\"-\",0,IF(COUNTIF($E$112:$J$112,M102),1,IF(COUNTIF($E$101:$E$102,M102)=1,IF(COUNTIF($E$112:$J$112,VLOOKUP(M102,$E$101:$J$102,6,FALSE))=1,1,0),IF(COUNTIF($E$112:$J$112,INDEX($E$101:$E$102,MATCH(M102,$J$101:$J$102,0),1))=1,1,0))))","v":0},{"$f":"IF($O102=1,IF(COUNTIF($E$101:$E$102,$M102)=1,IF(((VLOOKUP($M102,$E$101:$I$102,2,FALSE)+VLOOKUP($M102,$E$101:$I$102,3,FALSE)))>(VLOOKUP($M102,$E$101:$I$102,4,FALSE)+VLOOKUP($M102,$E$101:$I$102,5,FALSE)),1,0),IF((INDEX($F$101:$F$102,MATCH($M102,$J$101:$J$102,0))+INDEX($G$101:$G$102,MATCH($M102,$J$101:$J$102,0)))>(INDEX($H$101:$H$102,MATCH($M102,$J$101:$J$102,0))+INDEX($I$101:$I$102,MATCH($M102,$J$101:$J$102,0))),0,1)),0)","v":0},null,{"$f":"ABS(O102-P102)","v":0},{"$f":"IF($O102=1,IF(COUNTIF($E$101:$E$102,$M102)=1,VLOOKUP($M102,$E$101:$H$102,3,FALSE),INDEX($H$101:$H$102,MATCH($M102,$J$101:$J$102,0),1)),0)","v":0},{"$f":"IF($O102=1,IF(COUNTIF($E$101:$E$102,$M102)=1,VLOOKUP($M102,$E$101:$H$102,4,FALSE),INDEX($G$101:$G$102,MATCH($M102,$J$101:$J$102,0),1)),0)","v":0},{"$f":"IF($O102=1,IF(COUNTIF($E$101:$E$102,$M102)=1,VLOOKUP($M102,$E$102:$I103,2,FALSE),INDEX($I$101:$I$102,MATCH($M102,$J$101:$J$102,0),1)),0)+S102-T102-IF($O102=1,IF(COUNTIF($E$101:$E$102,$M102)=1,VLOOKUP($M102,$E$101:$I$102,5,FALSE),INDEX($F$101:$F$102,MATCH($M102,$J$101:$J$102,0),1)),0)","v":0}]
[null,null,null,null,null,null,null,null,null,null,null,{"$f":"IF($O103=0,\"\",INDEX(L$106:L$112,MATCH($M103,M$106:M$112,0)))","v":""},{"$f":"IF(LEFT($J102,2)=\"Gana\",\"-\",$J102)","v":"Ganador Cuartos 4"},null,{"$f":"IF(M103=\"-\",0,IF(COUNTIF($E$112:$J$112,M103),1,IF(COUNTIF($E$101:$E$102,M103)=1,IF(COUNTIF($E$112:$J$112,VLOOKUP(M103,$E$101:$J$102,6,FALSE))=1,1,0),IF(COUNTIF($E$112:$J$112,INDEX($E$101:$E$102,MATCH(M103,$J$101:$J$102,0),1))=1,1,0))))","v":0},{"$f":"IF($O103=1,IF(COUNTIF($E$101:$E$102,$M103)=1,IF(((VLOOKUP($M103,$E$101:$I$102,2,FALSE)+VLOOKUP($M103,$E$101:$I$102,3,FALSE)))>(VLOOKUP($M103,$E$101:$I$102,4,FALSE)+VLOOKUP($M103,$E$101:$I$102,5,FALSE)),1,0),IF((INDEX($F$101:$F$102,MATCH($M103,$J$101:$J$102,0))+INDEX($G$101:$G$102,MATCH($M103,$J$101:$J$102,0)))>(INDEX($H$101:$H$102,MATCH($M103,$J$101:$J$102,0))+INDEX($I$101:$I$102,MATCH($M103,$J$101:$J$102,0))),0,1)),0)","v":0},null,{"$f":"ABS(O103-P103)","v":0},{"$f":"IF($O103=1,IF(COUNTIF($E$101:$E$102,$M103)=1,VLOOKUP($M103,$E$101:$H$102,3,FALSE),INDEX($H$101:$H$102,MATCH($M103,$J$101:$J$102,0),1)),0)","v":0},{"$f":"IF($O103=1,IF(COUNTIF($E$101:$E$102,$M103)=1,VLOOKUP($M103,$E$101:$H$102,4,FALSE),INDEX($G$101:$G$102,MATCH($M103,$J$101:$J$102,0),1)),0)","v":0},{"$f":"IF($O103=1,IF(COUNTIF($E$101:$E$102,$M103)=1,VLOOKUP($M103,$E$102:$I103,2,FALSE),INDEX($I$101:$I$102,MATCH($M103,$J$101:$J$102,0),1)),0)+S103-T103-IF($O103=1,IF(COUNTIF($E$101:$E$102,$M103)=1,VLOOKUP($M103,$E$101:$I$102,5,FALSE),INDEX($F$101:$F$102,MATCH($M103,$J$101:$J$102,0),1)),0)","v":0}]
[]
[null,null,null,null,null,null,null,null,null,null,null,"Pos","EQUIPO","Pts","J","G","E","P","GF","GC","D"]
[null,"FECHA","HORA","LUGAR","Partido por el tercer puesto",null,null,null,null,null,null,{"$f":"IF(SUM(P$106:P$107)=1,IF(P106=1,3,4),\"\")","v":""},{"$f":"IF(LEFT($E$107,2)=\"Perd\",\"-\",$E$107)","v":"Perdedor 1ª Semifinal"},null,{"$f":"IF(OR((IF(OR(LEFT(E107,5)=\"Perde\",LEFT(J107,5)=\"Perde\"),0,IF(AND(COUNT(F107:I107)=4,G107=H107,F107<>I107),IF(F107+G107>H107+I107,1,0),IF(AND(COUNT(F107:I107)=2,F107&I107=\"\",G107<>H107),IF(G107>H107,1,0),0)))),(IF(OR(LEFT(E107,5)=\"Perde\",LEFT(J107,5)=\"Perde\"),0,IF(AND(COUNT(F107:I107)=4,G107=H107,F107<>I107),IF(F107+G107<H107+I107,1,0),IF(AND(COUNT(F107:I107)=2,F107&I107=\"\",G107<>H107),IF(G107<H107,1,0),0))))),1,0)","v":0},{"$f":"(IF(OR(LEFT(E107,5)=\"Perde\",LEFT(J107,5)=\"Perde\"),0,IF(AND(COUNT(F107:I107)=4,G107=H107,F107<>I107),IF(F107+G107>H107+I107,1,0),IF(AND(COUNT(F107:I107)=2,F107&I107=\"\",G107<>H107),IF(G107>H107,1,0),0))))","v":0},null,{"$f":"ABS(O106-P106)","v":0},{"$f":"IF($O106=1,IF($M106=$E$107,$G$107,$H$107),0)","v":0},{"$f":"IF($O106=1,IF($M106=$E$107,$H$107,$G$107),0)","v":0},{"$f":"IF($O106=1,IF($M106=$E$107,$F$107+$G$107-$H$107-$I$107,$H$107+$I$107-$F$107-$G$107),0)","v":0}]
[null,"2014-07-12",0.58333333333333304,"Brasilia",{"$f":"IF(OR(LEFT(E101,5)=\"gana\",LEFT(J101,5)=\"gana\"),\"Perdedor 1ª Semifinal\",IF(AND(COUNT(F101:I101)=4,G101=H101,F101<>I101),IF(F101+G101>H101+I101,J101,E101),IF(AND(COUNT(F101:I101)=2,F101&I101=\"\",G101<>H101),IF(G101>H101,J101,E101),\"Perdedor 1ª Semifinal\")))","v":"Perdedor 1ª Semifinal"},null,null,null,null,{"$f":"IF(OR(LEFT(E102,5)=\"gana\",LEFT(J102,5)=\"gana\"),\"Perdedor 2ª Semifinal\",IF(AND(COUNT(F102:I102)=4,G102=H102,F102<>I102),IF(F102+G102<H102+I102,E102,J102),IF(AND(COUNT(F102:I102)=2,F102&I102=\"\",G102<>H102),IF(G102<H102,E102,J102),\"Perdedor 2ª Semifinal\")))","v":"Perdedor 2ª Semifinal"},null,{"$f":"IF(SUM(P$106:P$107)=1,IF(P107=1,3,4),\"\")","v":""},{"$f":"IF(LEFT($J$107,2)=\"Perd\",\"-\",$J$107)","v":"Perdedor 2ª Semifinal"},null,{"$f":"O106","v":0},{"$f":"IF(O107=1,IF(P106=1,0,1),0)","v":0},null,{"$f":"ABS(O107-P107)","v":0},{"$f":"IF($O107=1,IF($M107=$E$107,$G$107,$H$107),0)","v":0},{"$f":"IF($O107=1,IF($M107=$E$107,$H$107,$G$107),0)","v":0},{"$f":"IF($O107=1,IF($M107=$E$107,$F$107+$G$107-$H$107-$I$107,$H$107+$I$107-$F$107-$G$107),0)","v":0}]
[]
[]
[null,null,null,null,null,null,null,null,null,null,null,"Pos","EQUIPO","Pts","J","G","E","P","GF","GC","D"]
[null,"FECHA","HORA","LUGAR","FINAL",null,null,null,null,null,null,{"$f":"IF(SUM(P$111:P$112)=1,IF(P111=1,1,2),\"\")","v":""},{"$f":"IF(LEFT($E$112,2)=\"Gana\",\"-\",$E$112)","v":"Ganador 1ª Semifinal"},null,{"$f":"IF(OR((IF(OR(LEFT(E112,5)=\"Ganad\",LEFT(J112,5)=\"Ganad\"),0,IF(AND(COUNT(F112:I112)=4,G112=H112,F112<>I112),IF(F112+G112>H112+I112,1,0),IF(AND(COUNT(F112:I112)=2,F112&I112=\"\",G112<>H112),IF(G112>H112,1,0),0)))),(IF(OR(LEFT(E112,5)=\"Ganad\",LEFT(J112,5)=\"Ganad\"),0,IF(AND(COUNT(F112:I112)=4,G112=H112,F112<>I112),IF(F112+G112<H112+I112,1,0),IF(AND(COUNT(F112:I112)=2,F112&I112=\"\",G112<>H112),IF(G112<H112,1,0),0))))),1,0)","v":0},{"$f":"(IF(OR(LEFT(E112,5)=\"Ganad\",LEFT(J112,5)=\"Ganad\"),0,IF(AND(COUNT(F112:I112)=4,G112=H112,F112<>I112),IF(F112+G112>H112+I112,1,0),IF(AND(COUNT(F112:I112)=2,F112&I112=\"\",G112<>H112),IF(G112>H112,1,0),0))))","v":0},null,{"$f":"ABS(O111-P111)","v":0},{"$f":"IF($O111=1,IF($M111=$E$112,$G$112,$H$112),0)","v":0},{"$f":"IF($O111=1,IF($M111=$E$112,$H$112,$G$112),0)","v":0},{"$f":"IF($O111=1,IF($M111=$E$112,$F$112+$G$112-$H$112-$I$112,$H$112+$I$112-$F$112-$G$112),0)","v":0}]
[null,"2014-07-13",0.54166666666666663,"Rio de Janeiro",{"$f":"IF(OR(LEFT(E101,5)=\"gana\",LEFT(J101,5)=\"gana\"),\"Ganador 1ª Semifinal\",IF(AND(COUNT(F101:I101)=4,G101=H101,F101<>I101),IF(F101+G101<H101+I101,J101,E101),IF(AND(COUNT(F101:I101)=2,F101&I101=\"\",G101<>H101),IF(G101<H101,J101,E101),\"Ganador 1ª Semifinal\")))","v":"Ganador 1ª Semifinal"},null,null,null,null,{"$f":"IF(OR(LEFT(E102,5)=\"gana\",LEFT(J102,5)=\"gana\"),\"Ganador 2ª Semifinal\",IF(AND(COUNT(F102:I102)=4,G102=H102,F102<>I102),IF(F102+G102>H102+I102,E102,J102),IF(AND(COUNT(F102:I102)=2,F102&I102=\"\",G102<>H102),IF(G102>H102,E102,J102),\"Ganador 2ª Semifinal\")))","v":"Ganador 2ª Semifinal"},null,{"$f":"IF(SUM(P$111:P$112)=1,IF(P112=1,1,2),\"\")","v":""},{"$f":"IF(LEFT($J$112,2)=\"Gana\",\"-\",$J$112)","v":"Ganador 2ª Semifinal"},null,{"$f":"O111","v":0},{"$f":"IF(O112=1,IF(P111=1,0,1),0)","v":0},null,{"$f":"ABS(O112-P112)","v":0},{"$f":"IF($O112=1,IF($M112=$E$112,$G$112,$H$112),0)","v":0},{"$f":"IF($O112=1,IF($M112=$E$112,$H$112,$G$112),0)","v":0},{"$f":"IF($O112=1,IF($M112=$E$112,$F$112+$G$112-$H$112-$I$112,$H$112+$I$112-$F$112-$G$112),0)","v":0}]
[]
[]
[]
[null,{"$f":"IF(OR(LEFT(E112,5)=\"ganad\",LEFT(J112,5)=\"ganad\"),\"www.formulasexcel.com\",IF(AND(COUNT(F112:I112)=4,G112=H112,F112<>I112),IF(F112+G112<H112+I112,J112,E112),IF(AND(COUNT(F112:I112)=2,F112&I112=\"\",G112<>H112),IF(G112<H112,J112,E112),\"www.formulasexcel.com\")))","v":"www.formulasexcel.com"}]

{"sheet":"tabla general","index":1,"n_rows":34,"n_cols":12,"rows_kept":34,"cut":false,"hidden":false,"merged":[]}
[]
["Posición","EQUIPO","RONDA","J","G","E","P","GF","GC","D","GF/P","GC/P"]
[{"$f":"IF($D3=0,\"\",IF(COUNTIF('tabla mundial'!$M$72:$M$87,$B3),IF(INDEX('tabla mundial'!$L$72:$L$87,MATCH($B3,'tabla mundial'!$M$72:$M$87,0))=\"\",\"\",(INDEX('tabla mundial'!$L$72:$L$87,MATCH($B3,'tabla mundial'!$M$72:$M$87,0)))),(IF(LEFT(C3,1)<>\"P\",\"\",(SUMPRODUCT((((LOOKUP(LEFT(C3,1),{\"C\",1000;\"F\",8000;\"O\",500;\"P\",100;\"S\",3000}))*10000+100*D3*E3+30*H3-20*I3+J3)<(10000*((LOOKUP(LEFT(C$3:C$34,1),{\"C\",1000;\"F\",8000;\"O\",500;\"P\",100;\"S\",3000})))+100*(D$3:D$34)*(E$3:E$34)+30*(H$3:H$34)-20*(I$3:I$34)+(J$3:J$34)))+0)+1)))))","v":""},"Alemania",{"$f":"IF(COUNTIF('tabla mundial'!$M$111:$M$112,$B3)=1,\"Final\",IF(COUNTIF('tabla mundial'!$M$100:$M$103,$B3)=1,\"SemiFinal\",IF(COUNTIF('tabla mundial'!$M$90:$M$97,$B3)=1,\"Cuartos de Final\",IF(COUNTIF('tabla mundial'!$M$72:$M$87,$B3)=1,\"Octavos de Final\",\"Primera Ronda\"))))","v":"Primera Ronda"},{"$f":"SUMIF('tabla mundial'!$M$9:$M$112,$B3,'tabla mundial'!O$9:O$112)","v":0},{"$f":"SUMIF('tabla mundial'!$M$9:$M$112,$B3,'tabla mundial'!P$9:P$112)","v":0},{"$f":"SUMIF('tabla mundial'!$M$9:$M$112,$B3,'tabla mundial'!Q$9:Q$112)","v":0},{"$f":"SUMIF('tabla mundial'!$M$9:$M$112,$B3,'tabla mundial'!R$9:R$112)","v":0},{"$f":"SUMIF('tabla mundial'!$M$9:$M$112,$B3,'tabla mundial'!S$9:S$112)","v":0},{"$f":"SUMIF('tabla mundial'!$M$9:$M$112,$B3,'tabla mundial'!T$9:T$112)","v":0},{"$f":"SUMIF('tabla mundial'!$M$9:$M$112,$B3,'tabla mundial'!U$9:U$112)","v":0},{"$f":"IF($D3=0,0,H3/$D3)","v":0},0]
[{"$f":"IF($D4=0,\"\",IF(COUNTIF('tabla mundial'!$M$72:$M$87,$B4),IF(INDEX('tabla mundial'!$L$72:$L$87,MATCH($B4,'tabla mundial'!$M$72:$M$87,0))=\"\",\"\",(INDEX('tabla mundial'!$L$72:$L$87,MATCH($B4,'tabla mundial'!$M$72:$M$87,0)))),(IF(LEFT(C4,1)<>\"P\",\"\",(SUMPRODUCT((((LOOKUP(LEFT(C4,1),{\"C\",1000;\"F\",8000;\"O\",500;\"P\",100;\"S\",3000}))*10000+100*D4*E4+30*H4-20*I4+J4)<(10000*((LOOKUP(LEFT(C$3:C$34,1),{\"C\",1000;\"F\",8000;\"O\",500;\"P\",100;\"S\",3000})))+100*(D$3:D$34)*(E$3:E$34)+30*(H$3:H$34)-20*(I$3:I$34)+(J$3:J$34)))+0)+1)))))","v":""},"Argelia",{"$f":"IF(COUNTIF('tabla mundial'!$M$111:$M$112,$B4)=1,\"Final\",IF(COUNTIF('tabla mundial'!$M$100:$M$103,$B4)=1,\"SemiFinal\",IF(COUNTIF('tabla mundial'!$M$90:$M$97,$B4)=1,\"Cuartos de Final\",IF(COUNTIF('tabla mundial'!$M$72:$M$87,$B4)=1,\"Octavos de Final\",\"Primera Ronda\"))))","v":"Primera Ronda"},{"$f":"SUMIF('tabla mundial'!$M$9:$M$112,$B4,'tabla mundial'!O$9:O$112)","v":0},{"$f":"SUMIF('tabla mundial'!$M$9:$M$112,$B4,'tabla mundial'!P$9:P$112)","v":0},{"$f":"SUMIF('tabla mundial'!$M$9:$M$112,$B4,'tabla mundial'!Q$9:Q$112)","v":0},{"$f":"SUMIF('tabla mundial'!$M$9:$M$112,$B4,'tabla mundial'!R$9:R$112)","v":0},{"$f":"SUMIF('tabla mundial'!$M$9:$M$112,$B4,'tabla mundial'!S$9:S$112)","v":0},{"$f":"SUMIF('tabla mundial'!$M$9:$M$112,$B4,'tabla mundial'!T$9:T$112)","v":0},{"$f":"SUMIF('tabla mundial'!$M$9:$M$112,$B4,'tabla mundial'!U$9:U$112)","v":0},0,0]
[{"$f":"IF($D5=0,\"\",IF(COUNTIF('tabla mundial'!$M$72:$M$87,$B5),IF(INDEX('tabla mundial'!$L$72:$L$87,MATCH($B5,'tabla mundial'!$M$72:$M$87,0))=\"\",\"\",(INDEX('tabla mundial'!$L$72:$L$87,MATCH($B5,'tabla mundial'!$M$72:$M$87,0)))),(IF(LEFT(C5,1)<>\"P\",\"\",(SUMPRODUCT((((LOOKUP(LEFT(C5,1),{\"C\",1000;\"F\",8000;\"O\",500;\"P\",100;\"S\",3000}))*10000+100*D5*E5+30*H5-20*I5+J5)<(10000*((LOOKUP(LEFT(C$3:C$34,1),{\"C\",1000;\"F\",8000;\"O\",500;\"P\",100;\"S\",3000})))+100*(D$3:D$34)*(E$3:E$34)+30*(H$3:H$34)-20*(I$3:I$34)+(J$3:J$34)))+0)+1)))))","v":""},"Argentina",{"$f":"IF(COUNTIF('tabla mundial'!$M$111:$M$112,$B5)=1,\"Final\",IF(COUNTIF('tabla mundial'!$M$100:$M$103,$B5)=1,\"SemiFinal\",IF(COUNTIF('tabla mundial'!$M$90:$M$97,$B5)=1,\"Cuartos de Final\",IF(COUNTIF('tabla mundial'!$M$72:$M$87,$B5)=1,\"Octavos de Final\",\"Primera Ronda\"))))","v":"Primera Ronda"},{"$f":"SUMIF('tabla mundial'!$M$9:$M$112,$B5,'tabla mundial'!O$9:O$112)","v":0},{"$f":"SUMIF('tabla mundial'!$M$9:$M$112,$B5,'tabla mundial'!P$9:P$112)","v":0},{"$f":"SUMIF('tabla mundial'!$M$9:$M$112,$B5,'tabla mundial'!Q$9:Q$112)","v":0},{"$f":"SUMIF('tabla mundial'!$M$9:$M$112,$B5,'tabla mundial'!R$9:R$112)","v":0},{"$f":"SUMIF('tabla mundial'!$M$9:$M$112,$B5,'tabla mundial'!S$9:S$112)","v":0},{"$f":"SUMIF('tabla mundial'!$M$9:$M$112,$B5,'tabla mundial'!T$9:T$112)","v":0},{"$f":"SUMIF('tabla mundial'!$M$9:$M$112,$B5,'tabla mundial'!U$9:U$112)","v":0},0,0]
[{"$f":"IF($D6=0,\"\",IF(COUNTIF('tabla mundial'!$M$72:$M$87,$B6),IF(INDEX('tabla mundial'!$L$72:$L$87,MATCH($B6,'tabla mundial'!$M$72:$M$87,0))=\"\",\"\",(INDEX('tabla mundial'!$L$72:$L$87,MATCH($B6,'tabla mundial'!$M$72:$M$87,0)))),(IF(LEFT(C6,1)<>\"P\",\"\",(SUMPRODUCT((((LOOKUP(LEFT(C6,1),{\"C\",1000;\"F\",8000;\"O\",500;\"P\",100;\"S\",3000}))*10000+100*D6*E6+30*H6-20*I6+J6)<(10000*((LOOKUP(LEFT(C$3:C$34,1),{\"C\",1000;\"F\",8000;\"O\",500;\"P\",100;\"S\",3000})))+100*(D$3:D$34)*(E$3:E$34)+30*(H$3:H$34)-20*(I$3:I$34)+(J$3:J$34)))+0)+1)))))","v":""},"Australia",{"$f":"IF(COUNTIF('tabla mundial'!$M$111:$M$112,$B6)=1,\"Final\",IF(COUNTIF('tabla mundial'!$M$100:$M$103,$B6)=1,\"SemiFinal\",IF(COUNTIF('tabla mundial'!$M$90:$M$97,$B6)=1,\"Cuartos de Final\",IF(COUNTIF('tabla mundial'!$M$72:$M$87,$B6)=1,\"Octavos de Final\",\"Primera Ronda\"))))","v":"Primera Ronda"},{"$f":"SUMIF('tabla mundial'!$M$9:$M$112,$B6,'tabla mundial'!O$9:O$112)","v":0},{"$f":"SUMIF('tabla mundial'!$M$9:$M$112,$B6,'tabla mundial'!P$9:P$112)","v":0},{"$f":"SUMIF('tabla mundial'!$M$9:$M$112,$B6,'tabla mundial'!Q$9:Q$112)","v":0},{"$f":"SUMIF('tabla mundial'!$M$9:$M$112,$B6,'tabla mundial'!R$9:R$112)","v":0},{"$f":"SUMIF('tabla mundial'!$M$9:$M$112,$B6,'tabla mundial'!S$9:S$112)","v":0},{"$f":"SUMIF('tabla mundial'!$M$9:$M$112,$B6,'tabla mundial'!T$9:T$112)","v":0},{"$f":"SUMIF('tabla mundial'!$M$9:$M$112,$B6,'tabla mundial'!U$9:U$112)","v":0},0,0]
[{"$f":"IF($D7=0,\"\",IF(COUNTIF('tabla mundial'!$M$72:$M$87,$B7),IF(INDEX('tabla mundial'!$L$72:$L$87,MATCH($B7,'tabla mundial'!$M$72:$M$87,0))=\"\",\"\",(INDEX('tabla mundial'!$L$72:$L$87,MATCH($B7,'tabla mundial'!$M$72:$M$87,0)))),(IF(LEFT(C7,1)<>\"P\",\"\",(SUMPRODUCT((((LOOKUP(LEFT(C7,1),{\"C\",1000;\"F\",8000;\"O\",500;\"P\",100;\"S\",3000}))*10000+100*D7*E7+30*H7-20*I7+J7)<(10000*((LOOKUP(LEFT(C$3:C$34,1),{\"C\",1000;\"F\",8000;\"O\",500;\"P\",100;\"S\",3000})))+100*(D$3:D$34)*(E$3:E$34)+30*(H$3:H$34)-20*(I$3:I$34)+(J$3:J$34)))+0)+1)))))","v":""},"Belgica",{"$f":"IF(COUNTIF('tabla mundial'!$M$111:$M$112,$B7)=1,\"Final\",IF(COUNTIF('tabla mundial'!$M$100:$M$103,$B7)=1,\"SemiFinal\",IF(COUNTIF('tabla mundial'!$M$90:$M$97,$B7)=1,\"Cuartos de Final\",IF(COUNTIF('tabla mundial'!$M$72:$M$87,$B7)=1,\"Octavos de Final\",\"Primera Ronda\"))))","v":"Primera Ronda"},{"$f":"SUMIF('tabla mundial'!$M$9:$M$112,$B7,'tabla mundial'!O$9:O$112)","v":0},{"$f":"SUMIF('tabla mundial'!$M$9:$M$112,$B7,'tabla mundial'!P$9:P$112)","v":0},{"$f":"SUMIF('tabla mundial'!$M$9:$M$112,$B7,'tabla mundial'!Q$9:Q$112)","v":0},{"$f":"SUMIF('tabla mundial'!$M$9:$M$112,$B7,'tabla mundial'!R$9:R$112)","v":0},{"$f":"SUMIF('tabla mundial'!$M$9:$M$112,$B7,'tabla mundial'!S$9:S$112)","v":0},{"$f":"SUMIF('tabla mundial'!$M$9:$M$112,$B7,'tabla mundial'!T$9:T$112)","v":0},{"$f":"SUMIF('tabla mundial'!$M$9:$M$112,$B7,'tabla mundial'!U$9:U$112)","v":0},0,0]
[{"$f":"IF($D8=0,\"\",IF(COUNTIF('tabla mundial'!$M$72:$M$87,$B8),IF(INDEX('tabla mundial'!$L$72:$L$87,MATCH($B8,'tabla mundial'!$M$72:$M$87,0))=\"\",\"\",(INDEX('tabla mundial'!$L$72:$L$87,MATCH($B8,'tabla mundial'!$M$72:$M$87,0)))),(IF(LEFT(C8,1)<>\"P\",\"\",(SUMPRODUCT((((LOOKUP(LEFT(C8,1),{\"C\",1000;\"F\",8000;\"O\",500;\"P\",100;\"S\",3000}))*10000+100*D8*E8+30*H8-20*I8+J8)<(10000*((LOOKUP(LEFT(C$3:C$34,1),{\"C\",1000;\"F\",8000;\"O\",500;\"P\",100;\"S\",3000})))+100*(D$3:D$34)*(E$3:E$34)+30*(H$3:H$34)-20*(I$3:I$34)+(J$3:J$34)))+0)+1)))))","v":""},"Bosnia-Herzegovina",{"$f":"IF(COUNTIF('tabla mundial'!$M$111:$M$112,$B8)=1,\"Final\",IF(COUNTIF('tabla mundial'!$M$100:$M$103,$B8)=1,\"SemiFinal\",IF(COUNTIF('tabla mundial'!$M$90:$M$97,$B8)=1,\"Cuartos de Final\",IF(COUNTIF('tabla mundial'!$M$72:$M$87,$B8)=1,\"Octavos de Final\",\"Primera Ronda\"))))","v":"Primera Ronda"},{"$f":"SUMIF('tabla mundial'!$M$9:$M$112,$B8,'tabla mundial'!O$9:O$112)","v":0},{"$f":"SUMIF('tabla mundial'!$M$9:$M$112,$B8,'tabla mundial'!P$9:P$112)","v":0},{"$f":"SUMIF('tabla mundial'!$M$9:$M$112,$B8,'tabla mundial'!Q$9:Q$112)","v":0},{"$f":"SUMIF('tabla mundial'!$M$9:$M$112,$B8,'tabla mundial'!R$9:R$112)","v":0},{"$f":"SUMIF('tabla mundial'!$M$9:$M$112,$B8,'tabla mundial'!S$9:S$112)","v":0},{"$f":"SUMIF('tabla mundial'!$M$9:$M$112,$B8,'tabla mundial'!T$9:T$112)","v":0},{"$f":"SUMIF('tabla mundial'!$M$9:$M$112,$B8,'tabla mundial'!U$9:U$112)","v":0},0,0]
[{"$f":"IF($D9=0,\"\",IF(COUNTIF('tabla mundial'!$M$72:$M$87,$B9),IF(INDEX('tabla mundial'!$L$72:$L$87,MATCH($B9,'tabla mundial'!$M$72:$M$87,0))=\"\",\"\",(INDEX('tabla mundial'!$L$72:$L$87,MATCH($B9,'tabla mundial'!$M$72:$M$87,0)))),(IF(LEFT(C9,1)<>\"P\",\"\",(SUMPRODUCT((((LOOKUP(LEFT(C9,1),{\"C\",1000;\"F\",8000;\"O\",500;\"P\",100;\"S\",3000}))*10000+100*D9*E9+30*H9-20*I9+J9)<(10000*((LOOKUP(LEFT(C$3:C$34,1),{\"C\",1000;\"F\",8000;\"O\",500;\"P\",100;\"S\",3000})))+100*(D$3:D$34)*(E$3:E$34)+30*(H$3:H$34)-20*(I$3:I$34)+(J$3:J$34)))+0)+1)))))","v":""},"Brasil",{"$f":"IF(COUNTIF('tabla mundial'!$M$111:$M$112,$B9)=1,\"Final\",IF(COUNTIF('tabla mundial'!$M$100:$M$103,$B9)=1,\"SemiFinal\",IF(COUNTIF('tabla mundial'!$M$90:$M$97,$B9)=1,\"Cuartos de Final\",IF(COUNTIF('tabla mundial'!$M$72:$M$87,$B9)=1,\"Octavos de Final\",\"Primera Ronda\"))))","v":"Primera Ronda"},{"$f":"SUMIF('tabla mundial'!$M$9:$M$112,$B9,'tabla mundial'!O$9:O$112)","v":0},{"$f":"SUMIF('tabla mundial'!$M$9:$M$112,$B9,'tabla mundial'!P$9:P$112)","v":0},{"$f":"SUMIF('tabla mundial'!$M$9:$M$112,$B9,'tabla mundial'!Q$9:Q$112)","v":0},{"$f":"SUMIF('tabla mundial'!$M$9:$M$112,$B9,'tabla mundial'!R$9:R$112)","v":0},{"$f":"SUMIF('tabla mundial'!$M$9:$M$112,$B9,'tabla mundial'!S$9:S$112)","v":0},{"$f":"SUMIF('tabla mundial'!$M$9:$M$112,$B9,'tabla mundial'!T$9:T$112)","v":0},{"$f":"SUMIF('tabla mundial'!$M$9:$M$112,$B9,'tabla mundial'!U$9:U$112)","v":0},0,0]
[{"$f":"IF($D10=0,\"\",IF(COUNTIF('tabla mundial'!$M$72:$M$87,$B10),IF(INDEX('tabla mundial'!$L$72:$L$87,MATCH($B10,'tabla mundial'!$M$72:$M$87,0))=\"\",\"\",(INDEX('tabla mundial'!$L$72:$L$87,MATCH($B10,'tabla mundial'!$M$72:$M$87,0)))),(IF(LEFT(C10,1)<>\"P\",\"\",(SUMPRODUCT((((LOOKUP(LEFT(C10,1),{\"C\",1000;\"F\",8000;\"O\",500;\"P\",100;\"S\",3000}))*10000+100*D10*E10+30*H10-20*I10+J10)<(10000*((LOOKUP(LEFT(C$3:C$34,1),{\"C\",1000;\"F\",8000;\"O\",500;\"P\",100;\"S\",3000})))+100*(D$3:D$34)*(E$3:E$34)+30*(H$3:H$34)-20*(I$3:I$34)+(J$3:J$34)))+0)+1)))))","v":""},"Camerun",{"$f":"IF(COUNTIF('tabla mundial'!$M$111:$M$112,$B10)=1,\"Final\",IF(COUNTIF('tabla mundial'!$M$100:$M$103,$B10)=1,\"SemiFinal\",IF(COUNTIF('tabla mundial'!$M$90:$M$97,$B10)=1,\"Cuartos de Final\",IF(COUNTIF('tabla mundial'!$M$72:$M$87,$B10)=1,\"Octavos de Final\",\"Primera Ronda\"))))","v":"Primera Ronda"},{"$f":"SUMIF('tabla mundial'!$M$9:$M$112,$B10,'tabla mundial'!O$9:O$112)","v":0},{"$f":"SUMIF('tabla mundial'!$M$9:$M$112,$B10,'tabla mundial'!P$9:P$112)","v":0},{"$f":"SUMIF('tabla mundial'!$M$9:$M$112,$B10,'tabla mundial'!Q$9:Q$112)","v":0},{"$f":"SUMIF('tabla mundial'!$M$9:$M$112,$B10,'tabla mundial'!R$9:R$112)","v":0},{"$f":"SUMIF('tabla mundial'!$M$9:$M$112,$B10,'tabla mundial'!S$9:S$112)","v":0},{"$f":"SUMIF('tabla mundial'!$M$9:$M$112,$B10,'tabla mundial'!T$9:T$112)","v":0},{"$f":"SUMIF('tabla mundial'!$M$9:$M$112,$B10,'tabla mundial'!U$9:U$112)","v":0},0,0]
[{"$f":"IF($D11=0,\"\",IF(COUNTIF('tabla mundial'!$M$72:$M$87,$B11),IF(INDEX('tabla mundial'!$L$72:$L$87,MATCH($B11,'tabla mundial'!$M$72:$M$87,0))=\"\",\"\",(INDEX('tabla mundial'!$L$72:$L$87,MATCH($B11,'tabla mundial'!$M$72:$M$87,0)))),(IF(LEFT(C11,1)<>\"P\",\"\",(SUMPRODUCT((((LOOKUP(LEFT(C11,1),{\"C\",1000;\"F\",8000;\"O\",500;\"P\",100;\"S\",3000}))*10000+100*D11*E11+30*H11-20*I11+J11)<(10000*((LOOKUP(LEFT(C$3:C$34,1),{\"C\",1000;\"F\",8000;\"O\",500;\"P\",100;\"S\",3000})))+100*(D$3:D$34)*(E$3:E$34)+30*(H$3:H$34)-20*(I$3:I$34)+(J$3:J$34)))+0)+1)))))","v":""},"Chile",{"$f":"IF(COUNTIF('tabla mundial'!$M$111:$M$112,$B11)=1,\"Final\",IF(COUNTIF('tabla mundial'!$M$100:$M$103,$B11)=1,\"SemiFinal\",IF(COUNTIF('tabla mundial'!$M$90:$M$97,$B11)=1,\"Cuartos de Final\",IF(COUNTIF('tabla mundial'!$M$72:$M$87,$B11)=1,\"Octavos de Final\",\"Primera Ronda\"))))","v":"Primera Ronda"},{"$f":"SUMIF('tabla mundial'!$M$9:$M$112,$B11,'tabla mundial'!O$9:O$112)","v":0},{"$f":"SUMIF('tabla mundial'!$M$9:$M$112,$B11,'tabla mundial'!P$9:P$112)","v":0},{"$f":"SUMIF('tabla mundial'!$M$9:$M$112,$B11,'tabla mundial'!Q$9:Q$112)","v":0},{"$f":"SUMIF('tabla mundial'!$M$9:$M$112,$B11,'tabla mundial'!R$9:R$112)","v":0},{"$f":"SUMIF('tabla mundial'!$M$9:$M$112,$B11,'tabla mundial'!S$9:S$112)","v":0},{"$f":"SUMIF('tabla mundial'!$M$9:$M$112,$B11,'tabla mundial'!T$9:T$112)","v":0},{"$f":"SUMIF('tabla mundial'!$M$9:$M$112,$B11,'tabla mundial'!U$9:U$112)","v":0},0,0]
[{"$f":"IF($D12=0,\"\",IF(COUNTIF('tabla mundial'!$M$72:$M$87,$B12),IF(INDEX('tabla mundial'!$L$72:$L$87,MATCH($B12,'tabla mundial'!$M$72:$M$87,0))=\"\",\"\",(INDEX('tabla mundial'!$L$72:$L$87,MATCH($B12,'tabla mundial'!$M$72:$M$87,0)))),(IF(LEFT(C12,1)<>\"P\",\"\",(SUMPRODUCT((((LOOKUP(LEFT(C12,1),{\"C\",1000;\"F\",8000;\"O\",500;\"P\",100;\"S\",3000}))*10000+100*D12*E12+30*H12-20*I12+J12)<(10000*((LOOKUP(LEFT(C$3:C$34,1),{\"C\",1000;\"F\",8000;\"O\",500;\"P\",100;\"S\",3000})))+100*(D$3:D$34)*(E$3:E$34)+30*(H$3:H$34)-20*(I$3:I$34)+(J$3:J$34)))+0)+1)))))","v":""},"Colombia",{"$f":"IF(COUNTIF('tabla mundial'!$M$111:$M$112,$B12)=1,\"Final\",IF(COUNTIF('tabla mundial'!$M$100:$M$103,$B12)=1,\"SemiFinal\",IF(COUNTIF('tabla mundial'!$M$90:$M$97,$B12)=1,\"Cuartos de Final\",IF(COUNTIF('tabla mundial'!$M$72:$M$87,$B12)=1,\"Octavos de Final\",\"Primera Ronda\"))))","v":"Primera Ronda"},{"$f":"SUMIF('tabla mundial'!$M$9:$M$112,$B12,'tabla mundial'!O$9:O$112)","v":0},{"$f":"SUMIF('tabla mundial'!$M$9:$M$112,$B12,'tabla mundial'!P$9:P$112)","v":0},{"$f":"SUMIF('tabla mundial'!$M$9:$M$112,$B12,'tabla mundial'!Q$9:Q$112)","v":0},{"$f":"SUMIF('tabla mundial'!$M$9:$M$112,$B12,'tabla mundial'!R$9:R$112)","v":0},{"$f":"SUMIF('tabla mundial'!$M$9:$M$112,$B12,'tabla mundial'!S$9:S$112)","v":0},{"$f":"SUMIF('tabla mundial'!$M$9:$M$112,$B12,'tabla mundial'!T$9:T$112)","v":0},{"$f":"SUMIF('tabla mundial'!$M$9:$M$112,$B12,'tabla mundial'!U$9:U$112)","v":0},0,0]
[{"$f":"IF($D13=0,\"\",IF(COUNTIF('tabla mundial'!$M$72:$M$87,$B13),IF(INDEX('tabla mundial'!$L$72:$L$87,MATCH($B13,'tabla mundial'!$M$72:$M$87,0))=\"\",\"\",(INDEX('tabla mundial'!$L$72:$L$87,MATCH($B13,'tabla mundial'!$M$72:$M$87,0)))),(IF(LEFT(C13,1)<>\"P\",\"\",(SUMPRODUCT((((LOOKUP(LEFT(C13,1),{\"C\",1000;\"F\",8000;\"O\",500;\"P\",100;\"S\",3000}))*10000+100*D13*E13+30*H13-20*I13+J13)<(10000*((LOOKUP(LEFT(C$3:C$34,1),{\"C\",1000;\"F\",8000;\"O\",500;\"P\",100;\"S\",3000})))+100*(D$3:D$34)*(E$3:E$34)+30*(H$3:H$34)-20*(I$3:I$34)+(J$3:J$34)))+0)+1)))))","v":""},"Corea del Sur",{"$f":"IF(COUNTIF('tabla mundial'!$M$111:$M$112,$B13)=1,\"Final\",IF(COUNTIF('tabla mundial'!$M$100:$M$103,$B13)=1,\"SemiFinal\",IF(COUNTIF('tabla mundial'!$M$90:$M$97,$B13)=1,\"Cuartos de Final\",IF(COUNTIF('tabla mundial'!$M$72:$M$87,$B13)=1,\"Octavos de Final\",\"Primera Ronda\"))))","v":"Primera Ronda"},{"$f":"SUMIF('tabla mundial'!$M$9:$M$112,$B13,'tabla mundial'!O$9:O$112)","v":0},{"$f":"SUMIF('tabla mundial'!$M$9:$M$112,$B13,'tabla mundial'!P$9:P$112)","v":0},{"$f":"SUMIF('tabla mundial'!$M$9:$M$112,$B13,'tabla mundial'!Q$9:Q$112)","v":0},{"$f":"SUMIF('tabla mundial'!$M$9:$M$112,$B13,'tabla mundial'!R$9:R$112)","v":0},{"$f":"SUMIF('tabla mundial'!$M$9:$M$112,$B13,'tabla mundial'!S$9:S$112)","v":0},{"$f":"SUMIF('tabla mundial'!$M$9:$M$112,$B13,'tabla mundial'!T$9:T$112)","v":0},{"$f":"SUMIF('tabla mundial'!$M$9:$M$112,$B13,'tabla mundial'!U$9:U$112)","v":0},0,0]
[{"$f":"IF($D14=0,\"\",IF(COUNTIF('tabla mundial'!$M$72:$M$87,$B14),IF(INDEX('tabla mundial'!$L$72:$L$87,MATCH($B14,'tabla mundial'!$M$72:$M$87,0))=\"\",\"\",(INDEX('tabla mundial'!$L$72:$L$87,MATCH($B14,'tabla mundial'!$M$72:$M$87,0)))),(IF(LEFT(C14,1)<>\"P\",\"\",(SUMPRODUCT((((LOOKUP(LEFT(C14,1),{\"C\",1000;\"F\",8000;\"O\",500;\"P\",100;\"S\",3000}))*10000+100*D14*E14+30*H14-20*I14+J14)<(10000*((LOOKUP(LEFT(C$3:C$34,1),{\"C\",1000;\"F\",8000;\"O\",500;\"P\",100;\"S\",3000})))+100*(D$3:D$34)*(E$3:E$34)+30*(H$3:H$34)-20*(I$3:I$34)+(J$3:J$34)))+0)+1)))))","v":""},"Costa de Marfil",{"$f":"IF(COUNTIF('tabla mundial'!$M$111:$M$112,$B14)=1,\"Final\",IF(COUNTIF('tabla mundial'!$M$100:$M$103,$B14)=1,\"SemiFinal\",IF(COUNTIF('tabla mundial'!$M$90:$M$97,$B14)=1,\"Cuartos de Final\",IF(COUNTIF('tabla mundial'!$M$72:$M$87,$B14)=1,\"Octavos de Final\",\"Primera Ronda\"))))","v":"Primera Ronda"},{"$f":"SUMIF('tabla mundial'!$M$9:$M$112,$B14,'tabla mundial'!O$9:O$112)","v":0},{"$f":"SUMIF('tabla mundial'!$M$9:$M$112,$B14,'tabla mundial'!P$9:P$112)","v":0},{"$f":"SUMIF('tabla mundial'!$M$9:$M$112,$B14,'tabla mundial'!Q$9:Q$112)","v":0},{"$f":"SUMIF('tabla mundial'!$M$9:$M$112,$B14,'tabla mundial'!R$9:R$112)","v":0},{"$f":"SUMIF('tabla mundial'!$M$9:$M$112,$B14,'tabla mundial'!S$9:S$112)","v":0},{"$f":"SUMIF('tabla mundial'!$M$9:$M$112,$B14,'tabla mundial'!T$9:T$112)","v":0},{"$f":"SUMIF('tabla mundial'!$M$9:$M$112,$B14,'tabla mundial'!U$9:U$112)","v":0},0,0]
[{"$f":"IF($D15=0,\"\",IF(COUNTIF('tabla mundial'!$M$72:$M$87,$B15),IF(INDEX('tabla mundial'!$L$72:$L$87,MATCH($B15,'tabla mundial'!$M$72:$M$87,0))=\"\",\"\",(INDEX('tabla mundial'!$L$72:$L$87,MATCH($B15,'tabla mundial'!$M$72:$M$87,0)))),(IF(LEFT(C15,1)<>\"P\",\"\",(SUMPRODUCT((((LOOKUP(LEFT(C15,1),{\"C\",1000;\"F\",8000;\"O\",500;\"P\",100;\"S\",3000}))*10000+100*D15*E15+30*H15-20*I15+J15)<(10000*((LOOKUP(LEFT(C$3:C$34,1),{\"C\",1000;\"F\",8000;\"O\",500;\"P\",100;\"S\",3000})))+100*(D$3:D$34)*(E$3:E$34)+30*(H$3:H$34)-20*(I$3:I$34)+(J$3:J$34)))+0)+1)))))","v":""},"Costa Rica",{"$f":"IF(COUNTIF('tabla mundial'!$M$111:$M$112,$B15)=1,\"Final\",IF(COUNTIF('tabla mundial'!$M$100:$M$103,$B15)=1,\"SemiFinal\",IF(COUNTIF('tabla mundial'!$M$90:$M$97,$B15)=1,\"Cuartos de Final\",IF(COUNTIF('tabla mundial'!$M$72:$M$87,$B15)=1,\"Octavos de Final\",\"Primera Ronda\"))))","v":"Primera Ronda"},{"$f":"SUMIF('tabla mundial'!$M$9:$M$112,$B15,'tabla mundial'!O$9:O$112)","v":0},{"$f":"SUMIF('tabla mundial'!$M$9:$M$112,$B15,'tabla mundial'!P$9:P$112)","v":0},{"$f":"SUMIF('tabla mundial'!$M$9:$M$112,$B15,'tabla mundial'!Q$9:Q$112)","v":0},{"$f":"SUMIF('tabla mundial'!$M$9:$M$112,$B15,'tabla mundial'!R$9:R$112)","v":0},{"$f":"SUMIF('tabla mundial'!$M$9:$M$112,$B15,'tabla mundial'!S$9:S$112)","v":0},{"$f":"SUMIF('tabla mundial'!$M$9:$M$112,$B15,'tabla mundial'!T$9:T$112)","v":0},{"$f":"SUMIF('tabla mundial'!$M$9:$M$112,$B15,'tabla mundial'!U$9:U$112)","v":0},0,0]
[{"$f":"IF($D16=0,\"\",IF(COUNTIF('tabla mundial'!$M$72:$M$87,$B16),IF(INDEX('tabla mundial'!$L$72:$L$87,MATCH($B16,'tabla mundial'!$M$72:$M$87,0))=\"\",\"\",(INDEX('tabla mundial'!$L$72:$L$87,MATCH($B16,'tabla mundial'!$M$72:$M$87,0)))),(IF(LEFT(C16,1)<>\"P\",\"\",(SUMPRODUCT((((LOOKUP(LEFT(C16,1),{\"C\",1000;\"F\",8000;\"O\",500;\"P\",100;\"S\",3000}))*10000+100*D16*E16+30*H16-20*I16+J16)<(10000*((LOOKUP(LEFT(C$3:C$34,1),{\"C\",1000;\"F\",8000;\"O\",500;\"P\",100;\"S\",3000})))+100*(D$3:D$34)*(E$3:E$34)+30*(H$3:H$34)-20*(I$3:I$34)+(J$3:J$34)))+0)+1)))))","v":""},"Croacia",{"$f":"IF(COUNTIF('tabla mundial'!$M$111:$M$112,$B16)=1,\"Final\",IF(COUNTIF('tabla mundial'!$M$100:$M$103,$B16)=1,\"SemiFinal\",IF(COUNTIF('tabla mundial'!$M$90:$M$97,$B16)=1,\"Cuartos de Final\",IF(COUNTIF('tabla mundial'!$M$72:$M$87,$B16)=1,\"Octavos de Final\",\"Primera Ronda\"))))","v":"Primera Ronda"},{"$f":"SUMIF('tabla mundial'!$M$9:$M$112,$B16,'tabla mundial'!O$9:O$112)","v":0},{"$f":"SUMIF('tabla mundial'!$M$9:$M$112,$B16,'tabla mundial'!P$9:P$112)","v":0},{"$f":"SUMIF('tabla mundial'!$M$9:$M$112,$B16,'tabla mundial'!Q$9:Q$112)","v":0},{"$f":"SUMIF('tabla mundial'!$M$9:$M$112,$B16,'tabla mundial'!R$9:R$112)","v":0},{"$f":"SUMIF('tabla mundial'!$M$9:$M$112,$B16,'tabla mundial'!S$9:S$112)","v":0},{"$f":"SUMIF('tabla mundial'!$M$9:$M$112,$B16,'tabla mundial'!T$9:T$112)","v":0},{"$f":"SUMIF('tabla mundial'!$M$9:$M$112,$B16,'tabla mundial'!U$9:U$112)","v":0},0,0]
[{"$f":"IF($D17=0,\"\",IF(COUNTIF('tabla mundial'!$M$72:$M$87,$B17),IF(INDEX('tabla mundial'!$L$72:$L$87,MATCH($B17,'tabla mundial'!$M$72:$M$87,0))=\"\",\"\",(INDEX('tabla mundial'!$L$72:$L$87,MATCH($B17,'tabla mundial'!$M$72:$M$87,0)))),(IF(LEFT(C17,1)<>\"P\",\"\",(SUMPRODUCT((((LOOKUP(LEFT(C17,1),{\"C\",1000;\"F\",8000;\"O\",500;\"P\",100;\"S\",3000}))*10000+100*D17*E17+30*H17-20*I17+J17)<(10000*((LOOKUP(LEFT(C$3:C$34,1),{\"C\",1000;\"F\",8000;\"O\",500;\"P\",100;\"S\",3000})))+100*(D$3:D$34)*(E$3:E$34)+30*(H$3:H$34)-20*(I$3:I$34)+(J$3:J$34)))+0)+1)))))","v":""},"Ecuador",{"$f":"IF(COUNTIF('tabla mundial'!$M$111:$M$112,$B17)=1,\"Final\",IF(COUNTIF('tabla mundial'!$M$100:$M$103,$B17)=1,\"SemiFinal\",IF(COUNTIF('tabla mundial'!$M$90:$M$97,$B17)=1,\"Cuartos de Final\",IF(COUNTIF('tabla mundial'!$M$72:$M$87,$B17)=1,\"Octavos de Final\",\"Primera Ronda\"))))","v":"Primera Ronda"},{"$f":"SUMIF('tabla mundial'!$M$9:$M$112,$B17,'tabla mundial'!O$9:O$112)","v":0},{"$f":"SUMIF('tabla mundial'!$M$9:$M$112,$B17,'tabla mundial'!P$9:P$112)","v":0},{"$f":"SUMIF('tabla mundial'!$M$9:$M$112,$B17,'tabla mundial'!Q$9:Q$112)","v":0},{"$f":"SUMIF('tabla mundial'!$M$9:$M$112,$B17,'tabla mundial'!R$9:R$112)","v":0},{"$f":"SUMIF('tabla mundial'!$M$9:$M$112,$B17,'tabla mundial'!S$9:S$112)","v":0},{"$f":"SUMIF('tabla mundial'!$M$9:$M$112,$B17,'tabla mundial'!T$9:T$112)","v":0},{"$f":"SUMIF('tabla mundial'!$M$9:$M$112,$B17,'tabla mundial'!U$9:U$112)","v":0},0,0]
[{"$f":"IF($D18=0,\"\",IF(COUNTIF('tabla mundial'!$M$72:$M$87,$B18),IF(INDEX('tabla mundial'!$L$72:$L$87,MATCH($B18,'tabla mundial'!$M$72:$M$87,0))=\"\",\"\",(INDEX('tabla mundial'!$L$72:$L$87,MATCH($B18,'tabla mundial'!$M$72:$M$87,0)))),(IF(LEFT(C18,1)<>\"P\",\"\",(SUMPRODUCT((((LOOKUP(LEFT(C18,1),{\"C\",1000;\"F\",8000;\"O\",500;\"P\",100;\"S\",3000}))*10000+100*D18*E18+30*H18-20*I18+J18)<(10000*((LOOKUP(LEFT(C$3:C$34,1),{\"C\",1000;\"F\",8000;\"O\",500;\"P\",100;\"S\",3000})))+100*(D$3:D$34)*(E$3:E$34)+30*(H$3:H$34)-20*(I$3:I$34)+(J$3:J$34)))+0)+1)))))","v":""},"España",{"$f":"IF(COUNTIF('tabla mundial'!$M$111:$M$112,$B18)=1,\"Final\",IF(COUNTIF('tabla mundial'!$M$100:$M$103,$B18)=1,\"SemiFinal\",IF(COUNTIF('tabla mundial'!$M$90:$M$97,$B18)=1,\"Cuartos de Final\",IF(COUNTIF('tabla mundial'!$M$72:$M$87,$B18)=1,\"Octavos de Final\",\"Primera Ronda\"))))","v":"Primera Ronda"},{"$f":"SUMIF('tabla mundial'!$M$9:$M$112,$B18,'tabla mundial'!O$9:O$112)","v":0},{"$f":"SUMIF('tabla mundial'!$M$9:$M$112,$B18,'tabla mundial'!P$9:P$112)","v":0},{"$f":"SUMIF('tabla mundial'!$M$9:$M$112,$B18,'tabla mundial'!Q$9:Q$112)","v":0},{"$f":"SUMIF('tabla mundial'!$M$9:$M$112,$B18,'tabla mundial'!R$9:R$112)","v":0},{"$f":"SUMIF('tabla mundial'!$M$9:$M$112,$B18,'tabla mundial'!S$9:S$112)","v":0},{"$f":"SUMIF('tabla mundial'!$M$9:$M$112,$B18,'tabla mundial'!T$9:T$112)","v":0},{"$f":"SUMIF('tabla mundial'!$M$9:$M$112,$B18,'tabla mundial'!U$9:U$112)","v":0},0,0]
[{"$f":"IF($D19=0,\"\",IF(COUNTIF('tabla mundial'!$M$72:$M$87,$B19),IF(INDEX('tabla mundial'!$L$72:$L$87,MATCH($B19,'tabla mundial'!$M$72:$M$87,0))=\"\",\"\",(INDEX('tabla mundial'!$L$72:$L$87,MATCH($B19,'tabla mundial'!$M$72:$M$87,0)))),(IF(LEFT(C19,1)<>\"P\",\"\",(SUMPRODUCT((((LOOKUP(LEFT(C19,1),{\"C\",1000;\"F\",8000;\"O\",500;\"P\",100;\"S\",3000}))*10000+100*D19*E19+30*H19-20*I19+J19)<(10000*((LOOKUP(LEFT(C$3:C$34,1),{\"C\",1000;\"F\",8000;\"O\",500;\"P\",100;\"S\",3000})))+100*(D$3:D$34)*(E$3:E$34)+30*(H$3:H$34)-20*(I$3:I$34)+(J$3:J$34)))+0)+1)))))","v":""},"Francia",{"$f":"IF(COUNTIF('tabla mundial'!$M$111:$M$112,$B19)=1,\"Final\",IF(COUNTIF('tabla mundial'!$M$100:$M$103,$B19)=1,\"SemiFinal\",IF(COUNTIF('tabla mundial'!$M$90:$M$97,$B19)=1,\"Cuartos de Final\",IF(COUNTIF('tabla mundial'!$M$72:$M$87,$B19)=1,\"Octavos de Final\",\"Primera Ronda\"))))","v":"Primera Ronda"},{"$f":"SUMIF('tabla mundial'!$M$9:$M$112,$B19,'tabla mundial'!O$9:O$112)","v":0},{"$f":"SUMIF('tabla mundial'!$M$9:$M$112,$B19,'tabla mundial'!P$9:P$112)","v":0},{"$f":"SUMIF('tabla mundial'!$M$9:$M$112,$B19,'tabla mundial'!Q$9:Q$112)","v":0},{"$f":"SUMIF('tabla mundial'!$M$9:$M$112,$B19,'tabla mundial'!R$9:R$112)","v":0},{"$f":"SUMIF('tabla mundial'!$M$9:$M$112,$B19,'tabla mundial'!S$9:S$112)","v":0},{"$f":"SUMIF('tabla mundial'!$M$9:$M$112,$B19,'tabla mundial'!T$9:T$112)","v":0},{"$f":"SUMIF('tabla mundial'!$M$9:$M$112,$B19,'tabla mundial'!U$9:U$112)","v":0},0,0]
[{"$f":"IF($D20=0,\"\",IF(COUNTIF('tabla mundial'!$M$72:$M$87,$B20),IF(INDEX('tabla mundial'!$L$72:$L$87,MATCH($B20,'tabla mundial'!$M$72:$M$87,0))=\"\",\"\",(INDEX('tabla mundial'!$L$72:$L$87,MATCH($B20,'tabla mundial'!$M$72:$M$87,0)))),(IF(LEFT(C20,1)<>\"P\",\"\",(SUMPRODUCT((((LOOKUP(LEFT(C20,1),{\"C\",1000;\"F\",8000;\"O\",500;\"P\",100;\"S\",3000}))*10000+100*D20*E20+30*H20-20*I20+J20)<(10000*((LOOKUP(LEFT(C$3:C$34,1),{\"C\",1000;\"F\",8000;\"O\",500;\"P\",100;\"S\",3000})))+100*(D$3:D$34)*(E$3:E$34)+30*(H$3:H$34)-20*(I$3:I$34)+(J$3:J$34)))+0)+1)))))","v":""},"Ghana",{"$f":"IF(COUNTIF('tabla mundial'!$M$111:$M$112,$B20)=1,\"Final\",IF(COUNTIF('tabla mundial'!$M$100:$M$103,$B20)=1,\"SemiFinal\",IF(COUNTIF('tabla mundial'!$M$90:$M$97,$B20)=1,\"Cuartos de Final\",IF(COUNTIF('tabla mundial'!$M$72:$M$87,$B20)=1,\"Octavos de Final\",\"Primera Ronda\"))))","v":"Primera Ronda"},{"$f":"SUMIF('tabla mundial'!$M$9:$M$112,$B20,'tabla mundial'!O$9:O$112)","v":0},{"$f":"SUMIF('tabla mundial'!$M$9:$M$112,$B20,'tabla mundial'!P$9:P$112)","v":0},{"$f":"SUMIF('tabla mundial'!$M$9:$M$112,$B20,'tabla mundial'!Q$9:Q$112)","v":0},{"$f":"SUMIF('tabla mundial'!$M$9:$M$112,$B20,'tabla mundial'!R$9:R$112)","v":0},{"$f":"SUMIF('tabla mundial'!$M$9:$M$112,$B20,'tabla mundial'!S$9:S$112)","v":0},{"$f":"SUMIF('tabla mundial'!$M$9:$M$112,$B20,'tabla mundial'!T$9:T$112)","v":0},{"$f":"SUMIF('tabla mundial'!$M$9:$M$112,$B20,'tabla mundial'!U$9:U$112)","v":0},0,0]
[{"$f":"IF($D21=0,\"\",IF(COUNTIF('tabla mundial'!$M$72:$M$87,$B21),IF(INDEX('tabla mundial'!$L$72:$L$87,MATCH($B21,'tabla mundial'!$M$72:$M$87,0))=\"\",\"\",(INDEX('tabla mundial'!$L$72:$L$87,MATCH($B21,'tabla mundial'!$M$72:$M$87,0)))),(IF(LEFT(C21,1)<>\"P\",\"\",(SUMPRODUCT((((LOOKUP(LEFT(C21,1),{\"C\",1000;\"F\",8000;\"O\",500;\"P\",100;\"S\",3000}))*10000+100*D21*E21+30*H21-20*I21+J21)<(10000*((LOOKUP(LEFT(C$3:C$34,1),{\"C\",1000;\"F\",8000;\"O\",500;\"P\",100;\"S\",3000})))+100*(D$3:D$34)*(E$3:E$34)+30*(H$3:H$34)-20*(I$3:I$34)+(J$3:J$34)))+0)+1)))))","v":""},"Grecia",{"$f":"IF(COUNTIF('tabla mundial'!$M$111:$M$112,$B21)=1,\"Final\",IF(COUNTIF('tabla mundial'!$M$100:$M$103,$B21)=1,\"SemiFinal\",IF(COUNTIF('tabla mundial'!$M$90:$M$97,$B21)=1,\"Cuartos de Final\",IF(COUNTIF('tabla mundial'!$M$72:$M$87,$B21)=1,\"Octavos de Final\",\"Primera Ronda\"))))","v":"Primera Ronda"},{"$f":"SUMIF('tabla mundial'!$M$9:$M$112,$B21,'tabla mundial'!O$9:O$112)","v":0},{"$f":"SUMIF('tabla mundial'!$M$9:$M$112,$B21,'tabla mundial'!P$9:P$112)","v":0},{"$f":"SUMIF('tabla mundial'!$M$9:$M$112,$B21,'tabla mundial'!Q$9:Q$112)","v":0},{"$f":"SUMIF('tabla mundial'!$M$9:$M$112,$B21,'tabla mundial'!R$9:R$112)","v":0},{"$f":"SUMIF('tabla mundial'!$M$9:$M$112,$B21,'tabla mundial'!S$9:S$112)","v":0},{"$f":"SUMIF('tabla mundial'!$M$9:$M$112,$B21,'tabla mundial'!T$9:T$112)","v":0},{"$f":"SUMIF('tabla mundial'!$M$9:$M$112,$B21,'tabla mundial'!U$9:U$112)","v":0},0,0]
[{"$f":"IF($D22=0,\"\",IF(COUNTIF('tabla mundial'!$M$72:$M$87,$B22),IF(INDEX('tabla mundial'!$L$72:$L$87,MATCH($B22,'tabla mundial'!$M$72:$M$87,0))=\"\",\"\",(INDEX('tabla mundial'!$L$72:$L$87,MATCH($B22,'tabla mundial'!$M$72:$M$87,0)))),(IF(LEFT(C22,1)<>\"P\",\"\",(SUMPRODUCT((((LOOKUP(LEFT(C22,1),{\"C\",1000;\"F\",8000;\"O\",500;\"P\",100;\"S\",3000}))*10000+100*D22*E22+30*H22-20*I22+J22)<(10000*((LOOKUP(LEFT(C$3:C$34,1),{\"C\",1000;\"F\",8000;\"O\",500;\"P\",100;\"S\",3000})))+100*(D$3:D$34)*(E$3:E$34)+30*(H$3:H$34)-20*(I$3:I$34)+(J$3:J$34)))+0)+1)))))","v":""},"Holanda",{"$f":"IF(COUNTIF('tabla mundial'!$M$111:$M$112,$B22)=1,\"Final\",IF(COUNTIF('tabla mundial'!$M$100:$M$103,$B22)=1,\"SemiFinal\",IF(COUNTIF('tabla mundial'!$M$90:$M$97,$B22)=1,\"Cuartos de Final\",IF(COUNTIF('tabla mundial'!$M$72:$M$87,$B22)=1,\"Octavos de Final\",\"Primera Ronda\"))))","v":"Primera Ronda"},{"$f":"SUMIF('tabla mundial'!$M$9:$M$112,$B22,'tabla mundial'!O$9:O$112)","v":0},{"$f":"SUMIF('tabla mundial'!$M$9:$M$112,$B22,'tabla mundial'!P$9:P$112)","v":0},{"$f":"SUMIF('tabla mundial'!$M$9:$M$112,$B22,'tabla mundial'!Q$9:Q$112)","v":0},{"$f":"SUMIF('tabla mundial'!$M$9:$M$112,$B22,'tabla mundial'!R$9:R$112)","v":0},{"$f":"SUMIF('tabla mundial'!$M$9:$M$112,$B22,'tabla mundial'!S$9:S$112)","v":0},{"$f":"SUMIF('tabla mundial'!$M$9:$M$112,$B22,'tabla mundial'!T$9:T$112)","v":0},{"$f":"SUMIF('tabla mundial'!$M$9:$M$112,$B22,'tabla mundial'!U$9:U$112)","v":0},0,0]
[{"$f":"IF($D23=0,\"\",IF(COUNTIF('tabla mundial'!$M$72:$M$87,$B23),IF(INDEX('tabla mundial'!$L$72:$L$87,MATCH($B23,'tabla mundial'!$M$72:$M$87,0))=\"\",\"\",(INDEX('tabla mundial'!$L$72:$L$87,MATCH($B23,'tabla mundial'!$M$72:$M$87,0)))),(IF(LEFT(C23,1)<>\"P\",\"\",(SUMPRODUCT((((LOOKUP(LEFT(C23,1),{\"C\",1000;\"F\",8000;\"O\",500;\"P\",100;\"S\",3000}))*10000+100*D23*E23+30*H23-20*I23+J23)<(10000*((LOOKUP(LEFT(C$3:C$34,1),{\"C\",1000;\"F\",8000;\"O\",500;\"P\",100;\"S\",3000})))+100*(D$3:D$34)*(E$3:E$34)+30*(H$3:H$34)-20*(I$3:I$34)+(J$3:J$34)))+0)+1)))))","v":""},"Honduras",{"$f":"IF(COUNTIF('tabla mundial'!$M$111:$M$112,$B23)=1,\"Final\",IF(COUNTIF('tabla mundial'!$M$100:$M$103,$B23)=1,\"SemiFinal\",IF(COUNTIF('tabla mundial'!$M$90:$M$97,$B23)=1,\"Cuartos de Final\",IF(COUNTIF('tabla mundial'!$M$72:$M$87,$B23)=1,\"Octavos de Final\",\"Primera Ronda\"))))","v":"Primera Ronda"},{"$f":"SUMIF('tabla mundial'!$M$9:$M$112,$B23,'tabla mundial'!O$9:O$112)","v":0},{"$f":"SUMIF('tabla mundial'!$M$9:$M$112,$B23,'tabla mundial'!P$9:P$112)","v":0},{"$f":"SUMIF('tabla mundial'!$M$9:$M$112,$B23,'tabla mundial'!Q$9:Q$112)","v":0},{"$f":"SUMIF('tabla mundial'!$M$9:$M$112,$B23,'tabla mundial'!R$9:R$112)","v":0},{"$f":"SUMIF('tabla mundial'!$M$9:$M$112,$B23,'tabla mundial'!S$9:S$112)","v":0},{"$f":"SUMIF('tabla mundial'!$M$9:$M$112,$B23,'tabla mundial'!T$9:T$112)","v":0},{"$f":"SUMIF('tabla mundial'!$M$9:$M$112,$B23,'tabla mundial'!U$9:U$112)","v":0},0,0]
[{"$f":"IF($D24=0,\"\",IF(COUNTIF('tabla mundial'!$M$72:$M$87,$B24),IF(INDEX('tabla mundial'!$L$72:$L$87,MATCH($B24,'tabla mundial'!$M$72:$M$87,0))=\"\",\"\",(INDEX('tabla mundial'!$L$72:$L$87,MATCH($B24,'tabla mundial'!$M$72:$M$87,0)))),(IF(LEFT(C24,1)<>\"P\",\"\",(SUMPRODUCT((((LOOKUP(LEFT(C24,1),{\"C\",1000;\"F\",8000;\"O\",500;\"P\",100;\"S\",3000}))*10000+100*D24*E24+30*H24-20*I24+J24)<(10000*((LOOKUP(LEFT(C$3:C$34,1),{\"C\",1000;\"F\",8000;\"O\",500;\"P\",100;\"S\",3000})))+100*(D$3:D$34)*(E$3:E$34)+30*(H$3:H$34)-20*(I$3:I$34)+(J$3:J$34)))+0)+1)))))","v":""},"Inglaterra",{"$f":"IF(COUNTIF('tabla mundial'!$M$111:$M$112,$B24)=1,\"Final\",IF(COUNTIF('tabla mundial'!$M$100:$M$103,$B24)=1,\"SemiFinal\",IF(COUNTIF('tabla mundial'!$M$90:$M$97,$B24)=1,\"Cuartos de Final\",IF(COUNTIF('tabla mundial'!$M$72:$M$87,$B24)=1,\"Octavos de Final\",\"Primera Ronda\"))))","v":"Primera Ronda"},{"$f":"SUMIF('tabla mundial'!$M$9:$M$112,$B24,'tabla mundial'!O$9:O$112)","v":0},{"$f":"SUMIF('tabla mundial'!$M$9:$M$112,$B24,'tabla mundial'!P$9:P$112)","v":0},{"$f":"SUMIF('tabla mundial'!$M$9:$M$112,$B24,'tabla mundial'!Q$9:Q$112)","v":0},{"$f":"SUMIF('tabla mundial'!$M$9:$M$112,$B24,'tabla mundial'!R$9:R$112)","v":0},{"$f":"SUMIF('tabla mundial'!$M$9:$M$112,$B24,'tabla mundial'!S$9:S$112)","v":0},{"$f":"SUMIF('tabla mundial'!$M$9:$M$112,$B24,'tabla mundial'!T$9:T$112)","v":0},{"$f":"SUMIF('tabla mundial'!$M$9:$M$112,$B24,'tabla mundial'!U$9:U$112)","v":0},0,0]
[{"$f":"IF($D25=0,\"\",IF(COUNTIF('tabla mundial'!$M$72:$M$87,$B25),IF(INDEX('tabla mundial'!$L$72:$L$87,MATCH($B25,'tabla mundial'!$M$72:$M$87,0))=\"\",\"\",(INDEX('tabla mundial'!$L$72:$L$87,MATCH($B25,'tabla mundial'!$M$72:$M$87,0)))),(IF(LEFT(C25,1)<>\"P\",\"\",(SUMPRODUCT((((LOOKUP(LEFT(C25,1),{\"C\",1000;\"F\",8000;\"O\",500;\"P\",100;\"S\",3000}))*10000+100*D25*E25+30*H25-20*I25+J25)<(10000*((LOOKUP(LEFT(C$3:C$34,1),{\"C\",1000;\"F\",8000;\"O\",500;\"P\",100;\"S\",3000})))+100*(D$3:D$34)*(E$3:E$34)+30*(H$3:H$34)-20*(I$3:I$34)+(J$3:J$34)))+0)+1)))))","v":""},"Iran",{"$f":"IF(COUNTIF('tabla mundial'!$M$111:$M$112,$B25)=1,\"Final\",IF(COUNTIF('tabla mundial'!$M$100:$M$103,$B25)=1,\"SemiFinal\",IF(COUNTIF('tabla mundial'!$M$90:$M$97,$B25)=1,\"Cuartos de Final\",IF(COUNTIF('tabla mundial'!$M$72:$M$87,$B25)=1,\"Octavos de Final\",\"Primera Ronda\"))))","v":"Primera Ronda"},{"$f":"SUMIF('tabla mundial'!$M$9:$M$112,$B25,'tabla mundial'!O$9:O$112)","v":0},{"$f":"SUMIF('tabla mundial'!$M$9:$M$112,$B25,'tabla mundial'!P$9:P$112)","v":0},{"$f":"SUMIF('tabla mundial'!$M$9:$M$112,$B25,'tabla mundial'!Q$9:Q$112)","v":0},{"$f":"SUMIF('tabla mundial'!$M$9:$M$112,$B25,'tabla mundial'!R$9:R$112)","v":0},{"$f":"SUMIF('tabla mundial'!$M$9:$M$112,$B25,'tabla mundial'!S$9:S$112)","v":0},{"$f":"SUMIF('tabla mundial'!$M$9:$M$112,$B25,'tabla mundial'!T$9:T$112)","v":0},{"$f":"SUMIF('tabla mundial'!$M$9:$M$112,$B25,'tabla mundial'!U$9:U$112)","v":0},0,0]
[{"$f":"IF($D26=0,\"\",IF(COUNTIF('tabla mundial'!$M$72:$M$87,$B26),IF(INDEX('tabla mundial'!$L$72:$L$87,MATCH($B26,'tabla mundial'!$M$72:$M$87,0))=\"\",\"\",(INDEX('tabla mundial'!$L$72:$L$87,MATCH($B26,'tabla mundial'!$M$72:$M$87,0)))),(IF(LEFT(C26,1)<>\"P\",\"\",(SUMPRODUCT((((LOOKUP(LEFT(C26,1),{\"C\",1000;\"F\",8000;\"O\",500;\"P\",100;\"S\",3000}))*10000+100*D26*E26+30*H26-20*I26+J26)<(10000*((LOOKUP(LEFT(C$3:C$34,1),{\"C\",1000;\"F\",8000;\"O\",500;\"P\",100;\"S\",3000})))+100*(D$3:D$34)*(E$3:E$34)+30*(H$3:H$34)-20*(I$3:I$34)+(J$3:J$34)))+0)+1)))))","v":""},"Italia",{"$f":"IF(COUNTIF('tabla mundial'!$M$111:$M$112,$B26)=1,\"Final\",IF(COUNTIF('tabla mundial'!$M$100:$M$103,$B26)=1,\"SemiFinal\",IF(COUNTIF('tabla mundial'!$M$90:$M$97,$B26)=1,\"Cuartos de Final\",IF(COUNTIF('tabla mundial'!$M$72:$M$87,$B26)=1,\"Octavos de Final\",\"Primera Ronda\"))))","v":"Primera Ronda"},{"$f":"SUMIF('tabla mundial'!$M$9:$M$112,$B26,'tabla mundial'!O$9:O$112)","v":0},{"$f":"SUMIF('tabla mundial'!$M$9:$M$112,$B26,'tabla mundial'!P$9:P$112)","v":0},{"$f":"SUMIF('tabla mundial'!$M$9:$M$112,$B26,'tabla mundial'!Q$9:Q$112)","v":0},{"$f":"SUMIF('tabla mundial'!$M$9:$M$112,$B26,'tabla mundial'!R$9:R$112)","v":0},{"$f":"SUMIF('tabla mundial'!$M$9:$M$112,$B26,'tabla mundial'!S$9:S$112)","v":0},{"$f":"SUMIF('tabla mundial'!$M$9:$M$112,$B26,'tabla mundial'!T$9:T$112)","v":0},{"$f":"SUMIF('tabla mundial'!$M$9:$M$112,$B26,'tabla mundial'!U$9:U$112)","v":0},0,0]
[{"$f":"IF($D27=0,\"\",IF(COUNTIF('tabla mundial'!$M$72:$M$87,$B27),IF(INDEX('tabla mundial'!$L$72:$L$87,MATCH($B27,'tabla mundial'!$M$72:$M$87,0))=\"\",\"\",(INDEX('tabla mundial'!$L$72:$L$87,MATCH($B27,'tabla mundial'!$M$72:$M$87,0)))),(IF(LEFT(C27,1)<>\"P\",\"\",(SUMPRODUCT((((LOOKUP(LEFT(C27,1),{\"C\",1000;\"F\",8000;\"O\",500;\"P\",100;\"S\",3000}))*10000+100*D27*E27+30*H27-20*I27+J27)<(10000*((LOOKUP(LEFT(C$3:C$34,1),{\"C\",1000;\"F\",8000;\"O\",500;\"P\",100;\"S\",3000})))+100*(D$3:D$34)*(E$3:E$34)+30*(H$3:H$34)-20*(I$3:I$34)+(J$3:J$34)))+0)+1)))))","v":""},"Japon",{"$f":"IF(COUNTIF('tabla mundial'!$M$111:$M$112,$B27)=1,\"Final\",IF(COUNTIF('tabla mundial'!$M$100:$M$103,$B27)=1,\"SemiFinal\",IF(COUNTIF('tabla mundial'!$M$90:$M$97,$B27)=1,\"Cuartos de Final\",IF(COUNTIF('tabla mundial'!$M$72:$M$87,$B27)=1,\"Octavos de Final\",\"Primera Ronda\"))))","v":"Primera Ronda"},{"$f":"SUMIF('tabla mundial'!$M$9:$M$112,$B27,'tabla mundial'!O$9:O$112)","v":0},{"$f":"SUMIF('tabla mundial'!$M$9:$M$112,$B27,'tabla mundial'!P$9:P$112)","v":0},{"$f":"SUMIF('tabla mundial'!$M$9:$M$112,$B27,'tabla mundial'!Q$9:Q$112)","v":0},{"$f":"SUMIF('tabla mundial'!$M$9:$M$112,$B27,'tabla mundial'!R$9:R$112)","v":0},{"$f":"SUMIF('tabla mundial'!$M$9:$M$112,$B27,'tabla mundial'!S$9:S$112)","v":0},{"$f":"SUMIF('tabla mundial'!$M$9:$M$112,$B27,'tabla mundial'!T$9:T$112)","v":0},{"$f":"SUMIF('tabla mundial'!$M$9:$M$112,$B27,'tabla mundial'!U$9:U$112)","v":0},0,0]
[{"$f":"IF($D28=0,\"\",IF(COUNTIF('tabla mundial'!$M$72:$M$87,$B28),IF(INDEX('tabla mundial'!$L$72:$L$87,MATCH($B28,'tabla mundial'!$M$72:$M$87,0))=\"\",\"\",(INDEX('tabla mundial'!$L$72:$L$87,MATCH($B28,'tabla mundial'!$M$72:$M$87,0)))),(IF(LEFT(C28,1)<>\"P\",\"\",(SUMPRODUCT((((LOOKUP(LEFT(C28,1),{\"C\",1000;\"F\",8000;\"O\",500;\"P\",100;\"S\",3000}))*10000+100*D28*E28+30*H28-20*I28+J28)<(10000*((LOOKUP(LEFT(C$3:C$34,1),{\"C\",1000;\"F\",8000;\"O\",500;\"P\",100;\"S\",3000})))+100*(D$3:D$34)*(E$3:E$34)+30*(H$3:H$34)-20*(I$3:I$34)+(J$3:J$34)))+0)+1)))))","v":""},"Mexico",{"$f":"IF(COUNTIF('tabla mundial'!$M$111:$M$112,$B28)=1,\"Final\",IF(COUNTIF('tabla mundial'!$M$100:$M$103,$B28)=1,\"SemiFinal\",IF(COUNTIF('tabla mundial'!$M$90:$M$97,$B28)=1,\"Cuartos de Final\",IF(COUNTIF('tabla mundial'!$M$72:$M$87,$B28)=1,\"Octavos de Final\",\"Primera Ronda\"))))","v":"Primera Ronda"},{"$f":"SUMIF('tabla mundial'!$M$9:$M$112,$B28,'tabla mundial'!O$9:O$112)","v":0},{"$f":"SUMIF('tabla mundial'!$M$9:$M$112,$B28,'tabla mundial'!P$9:P$112)","v":0},{"$f":"SUMIF('tabla mundial'!$M$9:$M$112,$B28,'tabla mundial'!Q$9:Q$112)","v":0},{"$f":"SUMIF('tabla mundial'!$M$9:$M$112,$B28,'tabla mundial'!R$9:R$112)","v":0},{"$f":"SUMIF('tabla mundial'!$M$9:$M$112,$B28,'tabla mundial'!S$9:S$112)","v":0},{"$f":"SUMIF('tabla mundial'!$M$9:$M$112,$B28,'tabla mundial'!T$9:T$112)","v":0},{"$f":"SUMIF('tabla mundial'!$M$9:$M$112,$B28,'tabla mundial'!U$9:U$112)","v":0},0,0]
[{"$f":"IF($D29=0,\"\",IF(COUNTIF('tabla mundial'!$M$72:$M$87,$B29),IF(INDEX('tabla mundial'!$L$72:$L$87,MATCH($B29,'tabla mundial'!$M$72:$M$87,0))=\"\",\"\",(INDEX('tabla mundial'!$L$72:$L$87,MATCH($B29,'tabla mundial'!$M$72:$M$87,0)))),(IF(LEFT(C29,1)<>\"P\",\"\",(SUMPRODUCT((((LOOKUP(LEFT(C29,1),{\"C\",1000;\"F\",8000;\"O\",500;\"P\",100;\"S\",3000}))*10000+100*D29*E29+30*H29-20*I29+J29)<(10000*((LOOKUP(LEFT(C$3:C$34,1),{\"C\",1000;\"F\",8000;\"O\",500;\"P\",100;\"S\",3000})))+100*(D$3:D$34)*(E$3:E$34)+30*(H$3:H$34)-20*(I$3:I$34)+(J$3:J$34)))+0)+1)))))","v":""},"Nigeria",{"$f":"IF(COUNTIF('tabla mundial'!$M$111:$M$112,$B29)=1,\"Final\",IF(COUNTIF('tabla mundial'!$M$100:$M$103,$B29)=1,\"SemiFinal\",IF(COUNTIF('tabla mundial'!$M$90:$M$97,$B29)=1,\"Cuartos de Final\",IF(COUNTIF('tabla mundial'!$M$72:$M$87,$B29)=1,\"Octavos de Final\",\"Primera Ronda\"))))","v":"Primera Ronda"},{"$f":"SUMIF('tabla mundial'!$M$9:$M$112,$B29,'tabla mundial'!O$9:O$112)","v":0},{"$f":"SUMIF('tabla mundial'!$M$9:$M$112,$B29,'tabla mundial'!P$9:P$112)","v":0},{"$f":"SUMIF('tabla mundial'!$M$9:$M$112,$B29,'tabla mundial'!Q$9:Q$112)","v":0},{"$f":"SUMIF('tabla mundial'!$M$9:$M$112,$B29,'tabla mundial'!R$9:R$112)","v":0},{"$f":"SUMIF('tabla mundial'!$M$9:$M$112,$B29,'tabla mundial'!S$9:S$112)","v":0},{"$f":"SUMIF('tabla mundial'!$M$9:$M$112,$B29,'tabla mundial'!T$9:T$112)","v":0},{"$f":"SUMIF('tabla mundial'!$M$9:$M$112,$B29,'tabla mundial'!U$9:U$112)","v":0},0,0]
[{"$f":"IF($D30=0,\"\",IF(COUNTIF('tabla mundial'!$M$72:$M$87,$B30),IF(INDEX('tabla mundial'!$L$72:$L$87,MATCH($B30,'tabla mundial'!$M$72:$M$87,0))=\"\",\"\",(INDEX('tabla mundial'!$L$72:$L$87,MATCH($B30,'tabla mundial'!$M$72:$M$87,0)))),(IF(LEFT(C30,1)<>\"P\",\"\",(SUMPRODUCT((((LOOKUP(LEFT(C30,1),{\"C\",1000;\"F\",8000;\"O\",500;\"P\",100;\"S\",3000}))*10000+100*D30*E30+30*H30-20*I30+J30)<(10000*((LOOKUP(LEFT(C$3:C$34,1),{\"C\",1000;\"F\",8000;\"O\",500;\"P\",100;\"S\",3000})))+100*(D$3:D$34)*(E$3:E$34)+30*(H$3:H$34)-20*(I$3:I$34)+(J$3:J$34)))+0)+1)))))","v":""},"Portugal",{"$f":"IF(COUNTIF('tabla mundial'!$M$111:$M$112,$B30)=1,\"Final\",IF(COUNTIF('tabla mundial'!$M$100:$M$103,$B30)=1,\"SemiFinal\",IF(COUNTIF('tabla mundial'!$M$90:$M$97,$B30)=1,\"Cuartos de Final\",IF(COUNTIF('tabla mundial'!$M$72:$M$87,$B30)=1,\"Octavos de Final\",\"Primera Ronda\"))))","v":"Primera Ronda"},{"$f":"SUMIF('tabla mundial'!$M$9:$M$112,$B30,'tabla mundial'!O$9:O$112)","v":0},{"$f":"SUMIF('tabla mundial'!$M$9:$M$112,$B30,'tabla mundial'!P$9:P$112)","v":0},{"$f":"SUMIF('tabla mundial'!$M$9:$M$112,$B30,'tabla mundial'!Q$9:Q$112)","v":0},{"$f":"SUMIF('tabla mundial'!$M$9:$M$112,$B30,'tabla mundial'!R$9:R$112)","v":0},{"$f":"SUMIF('tabla mundial'!$M$9:$M$112,$B30,'tabla mundial'!S$9:S$112)","v":0},{"$f":"SUMIF('tabla mundial'!$M$9:$M$112,$B30,'tabla mundial'!T$9:T$112)","v":0},{"$f":"SUMIF('tabla mundial'!$M$9:$M$112,$B30,'tabla mundial'!U$9:U$112)","v":0},0,0]
[{"$f":"IF($D31=0,\"\",IF(COUNTIF('tabla mundial'!$M$72:$M$87,$B31),IF(INDEX('tabla mundial'!$L$72:$L$87,MATCH($B31,'tabla mundial'!$M$72:$M$87,0))=\"\",\"\",(INDEX('tabla mundial'!$L$72:$L$87,MATCH($B31,'tabla mundial'!$M$72:$M$87,0)))),(IF(LEFT(C31,1)<>\"P\",\"\",(SUMPRODUCT((((LOOKUP(LEFT(C31,1),{\"C\",1000;\"F\",8000;\"O\",500;\"P\",100;\"S\",3000}))*10000+100*D31*E31+30*H31-20*I31+J31)<(10000*((LOOKUP(LEFT(C$3:C$34,1),{\"C\",1000;\"F\",8000;\"O\",500;\"P\",100;\"S\",3000})))+100*(D$3:D$34)*(E$3:E$34)+30*(H$3:H$34)-20*(I$3:I$34)+(J$3:J$34)))+0)+1)))))","v":""},"Rusia",{"$f":"IF(COUNTIF('tabla mundial'!$M$111:$M$112,$B31)=1,\"Final\",IF(COUNTIF('tabla mundial'!$M$100:$M$103,$B31)=1,\"SemiFinal\",IF(COUNTIF('tabla mundial'!$M$90:$M$97,$B31)=1,\"Cuartos de Final\",IF(COUNTIF('tabla mundial'!$M$72:$M$87,$B31)=1,\"Octavos de Final\",\"Primera Ronda\"))))","v":"Primera Ronda"},{"$f":"SUMIF('tabla mundial'!$M$9:$M$112,$B31,'tabla mundial'!O$9:O$112)","v":0},{"$f":"SUMIF('tabla mundial'!$M$9:$M$112,$B31,'tabla mundial'!P$9:P$112)","v":0},{"$f":"SUMIF('tabla mundial'!$M$9:$M$112,$B31,'tabla mundial'!Q$9:Q$112)","v":0},{"$f":"SUMIF('tabla mundial'!$M$9:$M$112,$B31,'tabla mundial'!R$9:R$112)","v":0},{"$f":"SUMIF('tabla mundial'!$M$9:$M$112,$B31,'tabla mundial'!S$9:S$112)","v":0},{"$f":"SUMIF('tabla mundial'!$M$9:$M$112,$B31,'tabla mundial'!T$9:T$112)","v":0},{"$f":"SUMIF('tabla mundial'!$M$9:$M$112,$B31,'tabla mundial'!U$9:U$112)","v":0},0,0]
[{"$f":"IF($D32=0,\"\",IF(COUNTIF('tabla mundial'!$M$72:$M$87,$B32),IF(INDEX('tabla mundial'!$L$72:$L$87,MATCH($B32,'tabla mundial'!$M$72:$M$87,0))=\"\",\"\",(INDEX('tabla mundial'!$L$72:$L$87,MATCH($B32,'tabla mundial'!$M$72:$M$87,0)))),(IF(LEFT(C32,1)<>\"P\",\"\",(SUMPRODUCT((((LOOKUP(LEFT(C32,1),{\"C\",1000;\"F\",8000;\"O\",500;\"P\",100;\"S\",3000}))*10000+100*D32*E32+30*H32-20*I32+J32)<(10000*((LOOKUP(LEFT(C$3:C$34,1),{\"C\",1000;\"F\",8000;\"O\",500;\"P\",100;\"S\",3000})))+100*(D$3:D$34)*(E$3:E$34)+30*(H$3:H$34)-20*(I$3:I$34)+(J$3:J$34)))+0)+1)))))","v":""},"Suiza",{"$f":"IF(COUNTIF('tabla mundial'!$M$111:$M$112,$B32)=1,\"Final\",IF(COUNTIF('tabla mundial'!$M$100:$M$103,$B32)=1,\"SemiFinal\",IF(COUNTIF('tabla mundial'!$M$90:$M$97,$B32)=1,\"Cuartos de Final\",IF(COUNTIF('tabla mundial'!$M$72:$M$87,$B32)=1,\"Octavos de Final\",\"Primera Ronda\"))))","v":"Primera Ronda"},{"$f":"SUMIF('tabla mundial'!$M$9:$M$112,$B32,'tabla mundial'!O$9:O$112)","v":0},{"$f":"SUMIF('tabla mundial'!$M$9:$M$112,$B32,'tabla mundial'!P$9:P$112)","v":0},{"$f":"SUMIF('tabla mundial'!$M$9:$M$112,$B32,'tabla mundial'!Q$9:Q$112)","v":0},{"$f":"SUMIF('tabla mundial'!$M$9:$M$112,$B32,'tabla mundial'!R$9:R$112)","v":0},{"$f":"SUMIF('tabla mundial'!$M$9:$M$112,$B32,'tabla mundial'!S$9:S$112)","v":0},{"$f":"SUMIF('tabla mundial'!$M$9:$M$112,$B32,'tabla mundial'!T$9:T$112)","v":0},{"$f":"SUMIF('tabla mundial'!$M$9:$M$112,$B32,'tabla mundial'!U$9:U$112)","v":0},0,0]
[{"$f":"IF($D33=0,\"\",IF(COUNTIF('tabla mundial'!$M$72:$M$87,$B33),IF(INDEX('tabla mundial'!$L$72:$L$87,MATCH($B33,'tabla mundial'!$M$72:$M$87,0))=\"\",\"\",(INDEX('tabla mundial'!$L$72:$L$87,MATCH($B33,'tabla mundial'!$M$72:$M$87,0)))),(IF(LEFT(C33,1)<>\"P\",\"\",(SUMPRODUCT((((LOOKUP(LEFT(C33,1),{\"C\",1000;\"F\",8000;\"O\",500;\"P\",100;\"S\",3000}))*10000+100*D33*E33+30*H33-20*I33+J33)<(10000*((LOOKUP(LEFT(C$3:C$34,1),{\"C\",1000;\"F\",8000;\"O\",500;\"P\",100;\"S\",3000})))+100*(D$3:D$34)*(E$3:E$34)+30*(H$3:H$34)-20*(I$3:I$34)+(J$3:J$34)))+0)+1)))))","v":""},"Uruguay",{"$f":"IF(COUNTIF('tabla mundial'!$M$111:$M$112,$B33)=1,\"Final\",IF(COUNTIF('tabla mundial'!$M$100:$M$103,$B33)=1,\"SemiFinal\",IF(COUNTIF('tabla mundial'!$M$90:$M$97,$B33)=1,\"Cuartos de Final\",IF(COUNTIF('tabla mundial'!$M$72:$M$87,$B33)=1,\"Octavos de Final\",\"Primera Ronda\"))))","v":"Primera Ronda"},{"$f":"SUMIF('tabla mundial'!$M$9:$M$112,$B33,'tabla mundial'!O$9:O$112)","v":0},{"$f":"SUMIF('tabla mundial'!$M$9:$M$112,$B33,'tabla mundial'!P$9:P$112)","v":0},{"$f":"SUMIF('tabla mundial'!$M$9:$M$112,$B33,'tabla mundial'!Q$9:Q$112)","v":0},{"$f":"SUMIF('tabla mundial'!$M$9:$M$112,$B33,'tabla mundial'!R$9:R$112)","v":0},{"$f":"SUMIF('tabla mundial'!$M$9:$M$112,$B33,'tabla mundial'!S$9:S$112)","v":0},{"$f":"SUMIF('tabla mundial'!$M$9:$M$112,$B33,'tabla mundial'!T$9:T$112)","v":0},{"$f":"SUMIF('tabla mundial'!$M$9:$M$112,$B33,'tabla mundial'!U$9:U$112)","v":0},0,0]
[{"$f":"IF($D34=0,\"\",IF(COUNTIF('tabla mundial'!$M$72:$M$87,$B34),IF(INDEX('tabla mundial'!$L$72:$L$87,MATCH($B34,'tabla mundial'!$M$72:$M$87,0))=\"\",\"\",(INDEX('tabla mundial'!$L$72:$L$87,MATCH($B34,'tabla mundial'!$M$72:$M$87,0)))),(IF(LEFT(C34,1)<>\"P\",\"\",(SUMPRODUCT((((LOOKUP(LEFT(C34,1),{\"C\",1000;\"F\",8000;\"O\",500;\"P\",100;\"S\",3000}))*10000+100*D34*E34+30*H34-20*I34+J34)<(10000*((LOOKUP(LEFT(C$3:C$34,1),{\"C\",1000;\"F\",8000;\"O\",500;\"P\",100;\"S\",3000})))+100*(D$3:D$34)*(E$3:E$34)+30*(H$3:H$34)-20*(I$3:I$34)+(J$3:J$34)))+0)+1)))))","v":""},"USA",{"$f":"IF(COUNTIF('tabla mundial'!$M$111:$M$112,$B34)=1,\"Final\",IF(COUNTIF('tabla mundial'!$M$100:$M$103,$B34)=1,\"SemiFinal\",IF(COUNTIF('tabla mundial'!$M$90:$M$97,$B34)=1,\"Cuartos de Final\",IF(COUNTIF('tabla mundial'!$M$72:$M$87,$B34)=1,\"Octavos de Final\",\"Primera Ronda\"))))","v":"Primera Ronda"},{"$f":"SUMIF('tabla mundial'!$M$9:$M$112,$B34,'tabla mundial'!O$9:O$112)","v":0},{"$f":"SUMIF('tabla mundial'!$M$9:$M$112,$B34,'tabla mundial'!P$9:P$112)","v":0},{"$f":"SUMIF('tabla mundial'!$M$9:$M$112,$B34,'tabla mundial'!Q$9:Q$112)","v":0},{"$f":"SUMIF('tabla mundial'!$M$9:$M$112,$B34,'tabla mundial'!R$9:R$112)","v":0},{"$f":"SUMIF('tabla mundial'!$M$9:$M$112,$B34,'tabla mundial'!S$9:S$112)","v":0},{"$f":"SUMIF('tabla mundial'!$M$9:$M$112,$B34,'tabla mundial'!T$9:T$112)","v":0},{"$f":"SUMIF('tabla mundial'!$M$9:$M$112,$B34,'tabla mundial'!U$9:U$112)","v":0},0,0]